BEGIN:VCALENDAR
VERSION:2.0
PRODID:-//Monocacy Brewing Company - ECPv6.15.17.1//NONSGML v1.0//EN
CALSCALE:GREGORIAN
METHOD:PUBLISH
X-ORIGINAL-URL:https://monocacybrewing.com
X-WR-CALDESC:Events for Monocacy Brewing Company
REFRESH-INTERVAL;VALUE=DURATION:PT1H
X-Robots-Tag:noindex
X-PUBLISHED-TTL:PT1H
BEGIN:VTIMEZONE
TZID:America/New_York
BEGIN:DAYLIGHT
TZOFFSETFROM:-0500
TZOFFSETTO:-0400
TZNAME:EDT
DTSTART:20240310T070000
END:DAYLIGHT
BEGIN:STANDARD
TZOFFSETFROM:-0400
TZOFFSETTO:-0500
TZNAME:EST
DTSTART:20241103T060000
END:STANDARD
BEGIN:DAYLIGHT
TZOFFSETFROM:-0500
TZOFFSETTO:-0400
TZNAME:EDT
DTSTART:20250309T070000
END:DAYLIGHT
BEGIN:STANDARD
TZOFFSETFROM:-0400
TZOFFSETTO:-0500
TZNAME:EST
DTSTART:20251102T060000
END:STANDARD
BEGIN:DAYLIGHT
TZOFFSETFROM:-0500
TZOFFSETTO:-0400
TZNAME:EDT
DTSTART:20260308T070000
END:DAYLIGHT
BEGIN:STANDARD
TZOFFSETFROM:-0400
TZOFFSETTO:-0500
TZNAME:EST
DTSTART:20261101T060000
END:STANDARD
END:VTIMEZONE
BEGIN:VEVENT
DTSTART;TZID=America/New_York:20251217T190000
DTEND;TZID=America/New_York:20251217T210000
DTSTAMP:20260424T161902
CREATED:20240201T174632Z
LAST-MODIFIED:20241213T192650Z
UID:10002243-1765998000-1766005200@monocacybrewing.com
SUMMARY:Trivia Night!
DESCRIPTION:
URL:https://monocacybrewing.com/event/trivia-night-9/2025-12-17/
LOCATION:Monocacy Brewing Co. Tasting Room\, 1781 N Market St\, Frederick\, MD\, 21701\, United States
END:VEVENT
BEGIN:VEVENT
DTSTART;TZID=America/New_York:20251210T190000
DTEND;TZID=America/New_York:20251210T210000
DTSTAMP:20260424T161902
CREATED:20240201T174632Z
LAST-MODIFIED:20241213T192650Z
UID:10002242-1765393200-1765400400@monocacybrewing.com
SUMMARY:Trivia Night!
DESCRIPTION:
URL:https://monocacybrewing.com/event/trivia-night-9/2025-12-10/
LOCATION:Monocacy Brewing Co. Tasting Room\, 1781 N Market St\, Frederick\, MD\, 21701\, United States
END:VEVENT
BEGIN:VEVENT
DTSTART;TZID=America/New_York:20251203T190000
DTEND;TZID=America/New_York:20251203T210000
DTSTAMP:20260424T161902
CREATED:20240201T174632Z
LAST-MODIFIED:20241213T192650Z
UID:10002241-1764788400-1764795600@monocacybrewing.com
SUMMARY:Trivia Night!
DESCRIPTION:
URL:https://monocacybrewing.com/event/trivia-night-9/2025-12-03/
LOCATION:Monocacy Brewing Co. Tasting Room\, 1781 N Market St\, Frederick\, MD\, 21701\, United States
END:VEVENT
BEGIN:VEVENT
DTSTART;TZID=America/New_York:20251126T190000
DTEND;TZID=America/New_York:20251126T210000
DTSTAMP:20260424T161902
CREATED:20240201T174632Z
LAST-MODIFIED:20241213T192650Z
UID:10002240-1764183600-1764190800@monocacybrewing.com
SUMMARY:Trivia Night!
DESCRIPTION:
URL:https://monocacybrewing.com/event/trivia-night-9/2025-11-26/
LOCATION:Monocacy Brewing Co. Tasting Room\, 1781 N Market St\, Frederick\, MD\, 21701\, United States
END:VEVENT
BEGIN:VEVENT
DTSTART;TZID=America/New_York:20251119T190000
DTEND;TZID=America/New_York:20251119T210000
DTSTAMP:20260424T161902
CREATED:20240201T174632Z
LAST-MODIFIED:20241213T192650Z
UID:10002239-1763578800-1763586000@monocacybrewing.com
SUMMARY:Trivia Night!
DESCRIPTION:
URL:https://monocacybrewing.com/event/trivia-night-9/2025-11-19/
LOCATION:Monocacy Brewing Co. Tasting Room\, 1781 N Market St\, Frederick\, MD\, 21701\, United States
END:VEVENT
BEGIN:VEVENT
DTSTART;TZID=America/New_York:20251112T190000
DTEND;TZID=America/New_York:20251112T210000
DTSTAMP:20260424T161902
CREATED:20240201T174632Z
LAST-MODIFIED:20241213T192650Z
UID:10002238-1762974000-1762981200@monocacybrewing.com
SUMMARY:Trivia Night!
DESCRIPTION:
URL:https://monocacybrewing.com/event/trivia-night-9/2025-11-12/
LOCATION:Monocacy Brewing Co. Tasting Room\, 1781 N Market St\, Frederick\, MD\, 21701\, United States
END:VEVENT
BEGIN:VEVENT
DTSTART;TZID=America/New_York:20251105T190000
DTEND;TZID=America/New_York:20251105T210000
DTSTAMP:20260424T161902
CREATED:20240201T174632Z
LAST-MODIFIED:20241213T192650Z
UID:10002237-1762369200-1762376400@monocacybrewing.com
SUMMARY:Trivia Night!
DESCRIPTION:
URL:https://monocacybrewing.com/event/trivia-night-9/2025-11-05/
LOCATION:Monocacy Brewing Co. Tasting Room\, 1781 N Market St\, Frederick\, MD\, 21701\, United States
END:VEVENT
BEGIN:VEVENT
DTSTART;TZID=America/New_York:20251029T190000
DTEND;TZID=America/New_York:20251029T210000
DTSTAMP:20260424T161902
CREATED:20240201T174632Z
LAST-MODIFIED:20241213T192650Z
UID:10002236-1761764400-1761771600@monocacybrewing.com
SUMMARY:Trivia Night!
DESCRIPTION:
URL:https://monocacybrewing.com/event/trivia-night-9/2025-10-29/
LOCATION:Monocacy Brewing Co. Tasting Room\, 1781 N Market St\, Frederick\, MD\, 21701\, United States
END:VEVENT
BEGIN:VEVENT
DTSTART;TZID=America/New_York:20251022T190000
DTEND;TZID=America/New_York:20251022T210000
DTSTAMP:20260424T161902
CREATED:20240201T174632Z
LAST-MODIFIED:20241213T192650Z
UID:10002235-1761159600-1761166800@monocacybrewing.com
SUMMARY:Trivia Night!
DESCRIPTION:
URL:https://monocacybrewing.com/event/trivia-night-9/2025-10-22/
LOCATION:Monocacy Brewing Co. Tasting Room\, 1781 N Market St\, Frederick\, MD\, 21701\, United States
END:VEVENT
BEGIN:VEVENT
DTSTART;TZID=America/New_York:20251015T190000
DTEND;TZID=America/New_York:20251015T210000
DTSTAMP:20260424T161902
CREATED:20240201T174632Z
LAST-MODIFIED:20241213T192650Z
UID:10002234-1760554800-1760562000@monocacybrewing.com
SUMMARY:Trivia Night!
DESCRIPTION:
URL:https://monocacybrewing.com/event/trivia-night-9/2025-10-15/
LOCATION:Monocacy Brewing Co. Tasting Room\, 1781 N Market St\, Frederick\, MD\, 21701\, United States
END:VEVENT
BEGIN:VEVENT
DTSTART;TZID=America/New_York:20251008T190000
DTEND;TZID=America/New_York:20251008T210000
DTSTAMP:20260424T161902
CREATED:20240201T174632Z
LAST-MODIFIED:20241213T192650Z
UID:10002233-1759950000-1759957200@monocacybrewing.com
SUMMARY:Trivia Night!
DESCRIPTION:
URL:https://monocacybrewing.com/event/trivia-night-9/2025-10-08/
LOCATION:Monocacy Brewing Co. Tasting Room\, 1781 N Market St\, Frederick\, MD\, 21701\, United States
END:VEVENT
BEGIN:VEVENT
DTSTART;TZID=America/New_York:20251001T190000
DTEND;TZID=America/New_York:20251001T210000
DTSTAMP:20260424T161902
CREATED:20240201T174632Z
LAST-MODIFIED:20241213T192650Z
UID:10002232-1759345200-1759352400@monocacybrewing.com
SUMMARY:Trivia Night!
DESCRIPTION:
URL:https://monocacybrewing.com/event/trivia-night-9/2025-10-01/
LOCATION:Monocacy Brewing Co. Tasting Room\, 1781 N Market St\, Frederick\, MD\, 21701\, United States
END:VEVENT
BEGIN:VEVENT
DTSTART;TZID=America/New_York:20250924T190000
DTEND;TZID=America/New_York:20250924T210000
DTSTAMP:20260424T161903
CREATED:20240201T174632Z
LAST-MODIFIED:20241213T192650Z
UID:10002231-1758740400-1758747600@monocacybrewing.com
SUMMARY:Trivia Night!
DESCRIPTION:
URL:https://monocacybrewing.com/event/trivia-night-9/2025-09-24/
LOCATION:Monocacy Brewing Co. Tasting Room\, 1781 N Market St\, Frederick\, MD\, 21701\, United States
END:VEVENT
BEGIN:VEVENT
DTSTART;TZID=America/New_York:20250917T190000
DTEND;TZID=America/New_York:20250917T210000
DTSTAMP:20260424T161903
CREATED:20240201T174632Z
LAST-MODIFIED:20241213T192650Z
UID:10002230-1758135600-1758142800@monocacybrewing.com
SUMMARY:Trivia Night!
DESCRIPTION:
URL:https://monocacybrewing.com/event/trivia-night-9/2025-09-17/
LOCATION:Monocacy Brewing Co. Tasting Room\, 1781 N Market St\, Frederick\, MD\, 21701\, United States
END:VEVENT
BEGIN:VEVENT
DTSTART;TZID=America/New_York:20250910T190000
DTEND;TZID=America/New_York:20250910T210000
DTSTAMP:20260424T161903
CREATED:20240201T174632Z
LAST-MODIFIED:20241213T192650Z
UID:10002229-1757530800-1757538000@monocacybrewing.com
SUMMARY:Trivia Night!
DESCRIPTION:
URL:https://monocacybrewing.com/event/trivia-night-9/2025-09-10/
LOCATION:Monocacy Brewing Co. Tasting Room\, 1781 N Market St\, Frederick\, MD\, 21701\, United States
END:VEVENT
BEGIN:VEVENT
DTSTART;TZID=America/New_York:20250903T190000
DTEND;TZID=America/New_York:20250903T210000
DTSTAMP:20260424T161903
CREATED:20240201T174632Z
LAST-MODIFIED:20241213T192650Z
UID:10002228-1756926000-1756933200@monocacybrewing.com
SUMMARY:Trivia Night!
DESCRIPTION:
URL:https://monocacybrewing.com/event/trivia-night-9/2025-09-03/
LOCATION:Monocacy Brewing Co. Tasting Room\, 1781 N Market St\, Frederick\, MD\, 21701\, United States
END:VEVENT
BEGIN:VEVENT
DTSTART;TZID=America/New_York:20250827T190000
DTEND;TZID=America/New_York:20250827T210000
DTSTAMP:20260424T161903
CREATED:20240201T174632Z
LAST-MODIFIED:20241213T192650Z
UID:10002227-1756321200-1756328400@monocacybrewing.com
SUMMARY:Trivia Night!
DESCRIPTION:
URL:https://monocacybrewing.com/event/trivia-night-9/2025-08-27/
LOCATION:Monocacy Brewing Co. Tasting Room\, 1781 N Market St\, Frederick\, MD\, 21701\, United States
END:VEVENT
BEGIN:VEVENT
DTSTART;TZID=America/New_York:20250820T190000
DTEND;TZID=America/New_York:20250820T210000
DTSTAMP:20260424T161903
CREATED:20240201T174632Z
LAST-MODIFIED:20241213T192650Z
UID:10002226-1755716400-1755723600@monocacybrewing.com
SUMMARY:Trivia Night!
DESCRIPTION:
URL:https://monocacybrewing.com/event/trivia-night-9/2025-08-20/
LOCATION:Monocacy Brewing Co. Tasting Room\, 1781 N Market St\, Frederick\, MD\, 21701\, United States
END:VEVENT
BEGIN:VEVENT
DTSTART;TZID=America/New_York:20250813T190000
DTEND;TZID=America/New_York:20250813T210000
DTSTAMP:20260424T161903
CREATED:20240201T174632Z
LAST-MODIFIED:20241213T192650Z
UID:10002225-1755111600-1755118800@monocacybrewing.com
SUMMARY:Trivia Night!
DESCRIPTION:
URL:https://monocacybrewing.com/event/trivia-night-9/2025-08-13/
LOCATION:Monocacy Brewing Co. Tasting Room\, 1781 N Market St\, Frederick\, MD\, 21701\, United States
END:VEVENT
BEGIN:VEVENT
DTSTART;TZID=America/New_York:20250806T190000
DTEND;TZID=America/New_York:20250806T210000
DTSTAMP:20260424T161903
CREATED:20240201T174632Z
LAST-MODIFIED:20241213T192650Z
UID:10002224-1754506800-1754514000@monocacybrewing.com
SUMMARY:Trivia Night!
DESCRIPTION:
URL:https://monocacybrewing.com/event/trivia-night-9/2025-08-06/
LOCATION:Monocacy Brewing Co. Tasting Room\, 1781 N Market St\, Frederick\, MD\, 21701\, United States
END:VEVENT
BEGIN:VEVENT
DTSTART;TZID=America/New_York:20250730T190000
DTEND;TZID=America/New_York:20250730T210000
DTSTAMP:20260424T161903
CREATED:20240201T174632Z
LAST-MODIFIED:20241213T192650Z
UID:10002223-1753902000-1753909200@monocacybrewing.com
SUMMARY:Trivia Night!
DESCRIPTION:
URL:https://monocacybrewing.com/event/trivia-night-9/2025-07-30/
LOCATION:Monocacy Brewing Co. Tasting Room\, 1781 N Market St\, Frederick\, MD\, 21701\, United States
END:VEVENT
BEGIN:VEVENT
DTSTART;TZID=America/New_York:20250723T190000
DTEND;TZID=America/New_York:20250723T210000
DTSTAMP:20260424T161903
CREATED:20240201T174632Z
LAST-MODIFIED:20241213T192650Z
UID:10002222-1753297200-1753304400@monocacybrewing.com
SUMMARY:Trivia Night!
DESCRIPTION:
URL:https://monocacybrewing.com/event/trivia-night-9/2025-07-23/
LOCATION:Monocacy Brewing Co. Tasting Room\, 1781 N Market St\, Frederick\, MD\, 21701\, United States
END:VEVENT
BEGIN:VEVENT
DTSTART;TZID=America/New_York:20250716T190000
DTEND;TZID=America/New_York:20250716T210000
DTSTAMP:20260424T161903
CREATED:20240201T174632Z
LAST-MODIFIED:20241213T192650Z
UID:10002221-1752692400-1752699600@monocacybrewing.com
SUMMARY:Trivia Night!
DESCRIPTION:
URL:https://monocacybrewing.com/event/trivia-night-9/2025-07-16/
LOCATION:Monocacy Brewing Co. Tasting Room\, 1781 N Market St\, Frederick\, MD\, 21701\, United States
END:VEVENT
BEGIN:VEVENT
DTSTART;TZID=America/New_York:20250709T190000
DTEND;TZID=America/New_York:20250709T210000
DTSTAMP:20260424T161903
CREATED:20240201T174632Z
LAST-MODIFIED:20241213T192650Z
UID:10002220-1752087600-1752094800@monocacybrewing.com
SUMMARY:Trivia Night!
DESCRIPTION:
URL:https://monocacybrewing.com/event/trivia-night-9/2025-07-09/
LOCATION:Monocacy Brewing Co. Tasting Room\, 1781 N Market St\, Frederick\, MD\, 21701\, United States
END:VEVENT
BEGIN:VEVENT
DTSTART;TZID=America/New_York:20250702T190000
DTEND;TZID=America/New_York:20250702T210000
DTSTAMP:20260424T161903
CREATED:20240201T174632Z
LAST-MODIFIED:20241213T192650Z
UID:10002219-1751482800-1751490000@monocacybrewing.com
SUMMARY:Trivia Night!
DESCRIPTION:
URL:https://monocacybrewing.com/event/trivia-night-9/2025-07-02/
LOCATION:Monocacy Brewing Co. Tasting Room\, 1781 N Market St\, Frederick\, MD\, 21701\, United States
END:VEVENT
BEGIN:VEVENT
DTSTART;TZID=America/New_York:20250625T190000
DTEND;TZID=America/New_York:20250625T210000
DTSTAMP:20260424T161903
CREATED:20240201T174632Z
LAST-MODIFIED:20241213T192650Z
UID:10002218-1750878000-1750885200@monocacybrewing.com
SUMMARY:Trivia Night!
DESCRIPTION:
URL:https://monocacybrewing.com/event/trivia-night-9/2025-06-25/
LOCATION:Monocacy Brewing Co. Tasting Room\, 1781 N Market St\, Frederick\, MD\, 21701\, United States
END:VEVENT
BEGIN:VEVENT
DTSTART;TZID=America/New_York:20250618T190000
DTEND;TZID=America/New_York:20250618T210000
DTSTAMP:20260424T161903
CREATED:20240201T174632Z
LAST-MODIFIED:20241213T192650Z
UID:10002217-1750273200-1750280400@monocacybrewing.com
SUMMARY:Trivia Night!
DESCRIPTION:
URL:https://monocacybrewing.com/event/trivia-night-9/2025-06-18/
LOCATION:Monocacy Brewing Co. Tasting Room\, 1781 N Market St\, Frederick\, MD\, 21701\, United States
END:VEVENT
BEGIN:VEVENT
DTSTART;TZID=America/New_York:20250611T190000
DTEND;TZID=America/New_York:20250611T210000
DTSTAMP:20260424T161903
CREATED:20240201T174632Z
LAST-MODIFIED:20241213T192650Z
UID:10002216-1749668400-1749675600@monocacybrewing.com
SUMMARY:Trivia Night!
DESCRIPTION:
URL:https://monocacybrewing.com/event/trivia-night-9/2025-06-11/
LOCATION:Monocacy Brewing Co. Tasting Room\, 1781 N Market St\, Frederick\, MD\, 21701\, United States
END:VEVENT
BEGIN:VEVENT
DTSTART;TZID=America/New_York:20250604T190000
DTEND;TZID=America/New_York:20250604T210000
DTSTAMP:20260424T161903
CREATED:20240201T174632Z
LAST-MODIFIED:20241213T192650Z
UID:10002215-1749063600-1749070800@monocacybrewing.com
SUMMARY:Trivia Night!
DESCRIPTION:
URL:https://monocacybrewing.com/event/trivia-night-9/2025-06-04/
LOCATION:Monocacy Brewing Co. Tasting Room\, 1781 N Market St\, Frederick\, MD\, 21701\, United States
END:VEVENT
BEGIN:VEVENT
DTSTART;TZID=America/New_York:20250528T190000
DTEND;TZID=America/New_York:20250528T210000
DTSTAMP:20260424T161903
CREATED:20240201T174632Z
LAST-MODIFIED:20241213T192650Z
UID:10002214-1748458800-1748466000@monocacybrewing.com
SUMMARY:Trivia Night!
DESCRIPTION:
URL:https://monocacybrewing.com/event/trivia-night-9/2025-05-28/
LOCATION:Monocacy Brewing Co. Tasting Room\, 1781 N Market St\, Frederick\, MD\, 21701\, United States
END:VEVENT
END:VCALENDAR