BEGIN:VCALENDAR
VERSION:2.0
PRODID:-//Monocacy Brewing Company - ECPv6.15.17.1//NONSGML v1.0//EN
CALSCALE:GREGORIAN
METHOD:PUBLISH
X-WR-CALNAME:Monocacy Brewing Company
X-ORIGINAL-URL:https://monocacybrewing.com
X-WR-CALDESC:Events for Monocacy Brewing Company
REFRESH-INTERVAL;VALUE=DURATION:PT1H
X-Robots-Tag:noindex
X-PUBLISHED-TTL:PT1H
BEGIN:VTIMEZONE
TZID:America/New_York
BEGIN:DAYLIGHT
TZOFFSETFROM:-0500
TZOFFSETTO:-0400
TZNAME:EDT
DTSTART:20180311T070000
END:DAYLIGHT
BEGIN:STANDARD
TZOFFSETFROM:-0400
TZOFFSETTO:-0500
TZNAME:EST
DTSTART:20181104T060000
END:STANDARD
BEGIN:DAYLIGHT
TZOFFSETFROM:-0500
TZOFFSETTO:-0400
TZNAME:EDT
DTSTART:20190310T070000
END:DAYLIGHT
BEGIN:STANDARD
TZOFFSETFROM:-0400
TZOFFSETTO:-0500
TZNAME:EST
DTSTART:20191103T060000
END:STANDARD
BEGIN:DAYLIGHT
TZOFFSETFROM:-0500
TZOFFSETTO:-0400
TZNAME:EDT
DTSTART:20200308T070000
END:DAYLIGHT
BEGIN:STANDARD
TZOFFSETFROM:-0400
TZOFFSETTO:-0500
TZNAME:EST
DTSTART:20201101T060000
END:STANDARD
END:VTIMEZONE
BEGIN:VEVENT
DTSTART;TZID=America/New_York:20191102T120000
DTEND;TZID=America/New_York:20191102T170000
DTSTAMP:20260422T080955
CREATED:20191021T173241Z
LAST-MODIFIED:20191021T173241Z
UID:10001030-1572696000-1572714000@monocacybrewing.com
SUMMARY:Baltimore Craft Beer Festival
DESCRIPTION:Held at the beautiful Canton Waterfront Park in downtown Baltimore\, the 2019 festival features dozens of Maryland craft breweries\, local food trucks\, a selection of craft vendors\, and live music! This event is your opportunity to directly support the success of the Maryland brewing community. Visit the official website for details and to purchase tickets: https://www.baltimorecraftbeerfestival.com/. 
URL:https://monocacybrewing.com/event/baltimore-craft-beer-festival/
LOCATION:Canton Waterfront Park\, 3001 Boston Street\, Baltimore\, MD\, United States
END:VEVENT
END:VCALENDAR