BEGIN:VCALENDAR
VERSION:2.0
PRODID:-//Monocacy Brewing Company - ECPv6.15.17.1//NONSGML v1.0//EN
CALSCALE:GREGORIAN
METHOD:PUBLISH
X-WR-CALNAME:Monocacy Brewing Company
X-ORIGINAL-URL:https://monocacybrewing.com
X-WR-CALDESC:Events for Monocacy Brewing Company
REFRESH-INTERVAL;VALUE=DURATION:PT1H
X-Robots-Tag:noindex
X-PUBLISHED-TTL:PT1H
BEGIN:VTIMEZONE
TZID:America/New_York
BEGIN:DAYLIGHT
TZOFFSETFROM:-0500
TZOFFSETTO:-0400
TZNAME:EDT
DTSTART:20180311T070000
END:DAYLIGHT
BEGIN:STANDARD
TZOFFSETFROM:-0400
TZOFFSETTO:-0500
TZNAME:EST
DTSTART:20181104T060000
END:STANDARD
BEGIN:DAYLIGHT
TZOFFSETFROM:-0500
TZOFFSETTO:-0400
TZNAME:EDT
DTSTART:20190310T070000
END:DAYLIGHT
BEGIN:STANDARD
TZOFFSETFROM:-0400
TZOFFSETTO:-0500
TZNAME:EST
DTSTART:20191103T060000
END:STANDARD
BEGIN:DAYLIGHT
TZOFFSETFROM:-0500
TZOFFSETTO:-0400
TZNAME:EDT
DTSTART:20200308T070000
END:DAYLIGHT
BEGIN:STANDARD
TZOFFSETFROM:-0400
TZOFFSETTO:-0500
TZNAME:EST
DTSTART:20201101T060000
END:STANDARD
BEGIN:DAYLIGHT
TZOFFSETFROM:-0500
TZOFFSETTO:-0400
TZNAME:EDT
DTSTART:20210314T070000
END:DAYLIGHT
BEGIN:STANDARD
TZOFFSETFROM:-0400
TZOFFSETTO:-0500
TZNAME:EST
DTSTART:20211107T060000
END:STANDARD
END:VTIMEZONE
BEGIN:VEVENT
DTSTART;TZID=America/New_York:20200214T160000
DTEND;TZID=America/New_York:20200214T210000
DTSTAMP:20260422T081004
CREATED:20200124T160600Z
LAST-MODIFIED:20200124T160600Z
UID:10001092-1581696000-1581714000@monocacybrewing.com
SUMMARY:Valentine’s Day Beer & Chocolate Flight
DESCRIPTION:Whether you’re spending Valentine’s Day with the one you love\, with a group of friends\, or flying solo\, the tasting room has exactly what you need: BEER AND CHOCOLATE. We’ve teamed up with Zoe’s Chocolates to bring you a delicious beer and chocolate flight curated by our talented brewmaster! Stop by and enjoy while supplies last.
URL:https://monocacybrewing.com/event/valentines-day-beer-chocolate-flight/
LOCATION:Monocacy Brewing Company\, 1781 North Market Street\, Frederick\, MD\, 21701\, United States
CATEGORIES:Tasting
END:VEVENT
BEGIN:VEVENT
DTSTART;TZID=America/New_York:20200103T160000
DTEND;TZID=America/New_York:20200103T190000
DTSTAMP:20260422T081004
CREATED:20191218T193944Z
LAST-MODIFIED:20191218T193955Z
UID:10001058-1578067200-1578078000@monocacybrewing.com
SUMMARY:Magothy Wine & Spirits Tasting
DESCRIPTION:
URL:https://monocacybrewing.com/event/magothy-wine-spirits-tasting/
LOCATION:Magothy Wine & Spirits\, 147 Governor Ritchie Hwy Suite A\,\, Severna Park\, MD\, 21146\, United States
CATEGORIES:Tasting
END:VEVENT
BEGIN:VEVENT
DTSTART;TZID=America/New_York:20191214T130000
DTEND;TZID=America/New_York:20191214T160000
DTSTAMP:20260422T081004
CREATED:20191121T135027Z
LAST-MODIFIED:20191121T135027Z
UID:10001042-1576328400-1576339200@monocacybrewing.com
SUMMARY:New Market Liquors Tasting
DESCRIPTION:Stop by New Market Liquors to enjoy a tasting of Monocacy’s Beer!
URL:https://monocacybrewing.com/event/new-market-liquors-tasting/
LOCATION:New Market Liquors\, 1670 Old National Pike\, New Market\, MD\, 21774\, United States
CATEGORIES:Tasting
END:VEVENT
BEGIN:VEVENT
DTSTART;TZID=America/New_York:20191206T160000
DTEND;TZID=America/New_York:20191206T190000
DTSTAMP:20260422T081004
CREATED:20191121T134653Z
LAST-MODIFIED:20191121T134653Z
UID:10001040-1575648000-1575658800@monocacybrewing.com
SUMMARY:Gateway Liquors Tasting
DESCRIPTION:Stop by Gateway Liquors to enjoy a tasting of Monocacy’s Beer!
URL:https://monocacybrewing.com/event/gateway-liquors-tasting/
LOCATION:Gateway Liquors\, 14802 N. Franklinville Rd\, Thurmont\, Maryland\, 21788\, United States
CATEGORIES:Tasting
END:VEVENT
BEGIN:VEVENT
DTSTART;TZID=America/New_York:20190719T140000
DTEND;TZID=America/New_York:20190719T170000
DTSTAMP:20260422T081004
CREATED:20190624T191237Z
LAST-MODIFIED:20190624T191237Z
UID:10000955-1563544800-1563555600@monocacybrewing.com
SUMMARY:Bel Air Liquors Tasting
DESCRIPTION:Stop by Bel Air Liquors to enjoy a tasting of Monocacy’s Beer!
URL:https://monocacybrewing.com/event/bel-air-liquors-tasting/
LOCATION:Bel Air Liquors\, 315 S. Main St.\, Bel Air\, MD\, 21014\, United States
CATEGORIES:Tasting
END:VEVENT
BEGIN:VEVENT
DTSTART;TZID=America/New_York:20190713T140000
DTEND;TZID=America/New_York:20190713T170000
DTSTAMP:20260422T081004
CREATED:20190624T190839Z
LAST-MODIFIED:20190624T190904Z
UID:10000949-1563026400-1563037200@monocacybrewing.com
SUMMARY:District East Tasting
DESCRIPTION:Stop by District East to enjoy a tasting of Monocacy’s Beer!
URL:https://monocacybrewing.com/event/district-east-tasting/
LOCATION:District East\, 880 N. East St.\, Frederick\, MD\, 21701\, United States
CATEGORIES:Tasting
END:VEVENT
BEGIN:VEVENT
DTSTART;TZID=America/New_York:20190707T160000
DTEND;TZID=America/New_York:20190707T190000
DTSTAMP:20260422T081004
CREATED:20190624T190452Z
LAST-MODIFIED:20190624T190507Z
UID:10000946-1562515200-1562526000@monocacybrewing.com
SUMMARY:Yes! Organic Market Tasting
DESCRIPTION:Stop by Yes! Organic Market to enjoy a tasting of Monocacy’s Beer!
URL:https://monocacybrewing.com/event/yes-organic-market-tasting/
LOCATION:Yes! Organic Market\, 5331 Baltimore Ave.\, Ste 101\, Hyattsville\,\, MD\, 20781\, United States
CATEGORIES:Tasting
END:VEVENT
BEGIN:VEVENT
DTSTART;TZID=America/New_York:20190607T170000
DTEND;TZID=America/New_York:20190607T190000
DTSTAMP:20260422T081004
CREATED:20190521T195130Z
LAST-MODIFIED:20190521T195437Z
UID:10000934-1559926800-1559934000@monocacybrewing.com
SUMMARY:Whitey’s Liquors Tasting
DESCRIPTION:Stop by Whitey’s Liquors to enjoy a tasting of Monocacy’s Beer!
URL:https://monocacybrewing.com/event/whiteys-liquors-tasting/
LOCATION:Whitey’s Liquors\, 803 N Hammonds Ferry Rd\, Linthicum Heights\, MD\, 21090\, United States
CATEGORIES:Tasting
END:VEVENT
BEGIN:VEVENT
DTSTART;TZID=America/New_York:20190517T160000
DTEND;TZID=America/New_York:20190517T190000
DTSTAMP:20260422T081004
CREATED:20190507T151637Z
LAST-MODIFIED:20190507T151637Z
UID:10000908-1558108800-1558119600@monocacybrewing.com
SUMMARY:Spin the Bottle Tasting
DESCRIPTION:Stop by Spin the Bottle to enjoy a tasting of Monocacy’s Beer!
URL:https://monocacybrewing.com/event/spin-the-bottle-tasting/
LOCATION:Spin the Bottle\, 9 W Patrick St\, Frederick\, MD\, 21701\, United States
CATEGORIES:Tasting
END:VEVENT
END:VCALENDAR