BEGIN:VCALENDAR
VERSION:2.0
PRODID:-//Monocacy Brewing Company - ECPv6.15.17.1//NONSGML v1.0//EN
CALSCALE:GREGORIAN
METHOD:PUBLISH
X-ORIGINAL-URL:https://monocacybrewing.com
X-WR-CALDESC:Events for Monocacy Brewing Company
REFRESH-INTERVAL;VALUE=DURATION:PT1H
X-Robots-Tag:noindex
X-PUBLISHED-TTL:PT1H
BEGIN:VTIMEZONE
TZID:America/New_York
BEGIN:DAYLIGHT
TZOFFSETFROM:-0500
TZOFFSETTO:-0400
TZNAME:EDT
DTSTART:20250309T070000
END:DAYLIGHT
BEGIN:STANDARD
TZOFFSETFROM:-0400
TZOFFSETTO:-0500
TZNAME:EST
DTSTART:20251102T060000
END:STANDARD
BEGIN:DAYLIGHT
TZOFFSETFROM:-0500
TZOFFSETTO:-0400
TZNAME:EDT
DTSTART:20260308T070000
END:DAYLIGHT
BEGIN:STANDARD
TZOFFSETFROM:-0400
TZOFFSETTO:-0500
TZNAME:EST
DTSTART:20261101T060000
END:STANDARD
BEGIN:DAYLIGHT
TZOFFSETFROM:-0500
TZOFFSETTO:-0400
TZNAME:EDT
DTSTART:20270314T070000
END:DAYLIGHT
BEGIN:STANDARD
TZOFFSETFROM:-0400
TZOFFSETTO:-0500
TZNAME:EST
DTSTART:20271107T060000
END:STANDARD
END:VTIMEZONE
BEGIN:VEVENT
DTSTART;TZID=America/New_York:20260424T120000
DTEND;TZID=America/New_York:20260424T220000
DTSTAMP:20260424T113738
CREATED:20250929T145034Z
LAST-MODIFIED:20260102T150547Z
UID:10011132-1777032000-1777068000@monocacybrewing.com
SUMMARY:The Alley Wagon Food Truck at MBC
DESCRIPTION:
URL:https://monocacybrewing.com/event/the-alley-wagon-food-truck-at-mbc-2/2026-04-24/
LOCATION:Monocacy Brewing Company\, 1781 North Market Street\, Frederick\, MD\, 21701\, United States
CATEGORIES:Food Trucks
ATTACH;FMTTYPE=image/png:https://monocacybrewing.com/wp-content/uploads/2025/09/ALLEY-WAGON-@-MBC-12.png
END:VEVENT
BEGIN:VEVENT
DTSTART;TZID=America/New_York:20260425T120000
DTEND;TZID=America/New_York:20260425T220000
DTSTAMP:20260424T113738
CREATED:20250929T145034Z
LAST-MODIFIED:20260102T150547Z
UID:10011133-1777118400-1777154400@monocacybrewing.com
SUMMARY:The Alley Wagon Food Truck at MBC
DESCRIPTION:
URL:https://monocacybrewing.com/event/the-alley-wagon-food-truck-at-mbc-2/2026-04-25/
LOCATION:Monocacy Brewing Company\, 1781 North Market Street\, Frederick\, MD\, 21701\, United States
CATEGORIES:Food Trucks
ATTACH;FMTTYPE=image/png:https://monocacybrewing.com/wp-content/uploads/2025/09/ALLEY-WAGON-@-MBC-12.png
END:VEVENT
BEGIN:VEVENT
DTSTART;TZID=America/New_York:20260426T120000
DTEND;TZID=America/New_York:20260426T200000
DTSTAMP:20260424T113738
CREATED:20250929T150032Z
LAST-MODIFIED:20250929T150032Z
UID:10012150-1777204800-1777233600@monocacybrewing.com
SUMMARY:The Alley Wagon Food Truck at MBC
DESCRIPTION:
URL:https://monocacybrewing.com/event/the-alley-wagon-food-truck-at-mbc-3/2026-04-26/
LOCATION:Monocacy Brewing Company\, 1781 North Market Street\, Frederick\, MD\, 21701\, United States
CATEGORIES:Food Trucks
ATTACH;FMTTYPE=image/png:https://monocacybrewing.com/wp-content/uploads/2025/09/ALLEY-WAGON-@-MBC-5.png
END:VEVENT
BEGIN:VEVENT
DTSTART;TZID=America/New_York:20260427T160000
DTEND;TZID=America/New_York:20260427T210000
DTSTAMP:20260424T113738
CREATED:20250929T143020Z
LAST-MODIFIED:20250929T150825Z
UID:10008992-1777305600-1777323600@monocacybrewing.com
SUMMARY:The Alley Wagon Food Truck at MBC
DESCRIPTION:
URL:https://monocacybrewing.com/event/the-alley-wagon-food-truck-at-mbc/2026-04-27/
LOCATION:Monocacy Brewing Company\, 1781 North Market Street\, Frederick\, MD\, 21701\, United States
CATEGORIES:Food Trucks
ATTACH;FMTTYPE=image/png:https://monocacybrewing.com/wp-content/uploads/2025/09/ALLEY-WAGON-@-MBC-5.png
END:VEVENT
BEGIN:VEVENT
DTSTART;TZID=America/New_York:20260429T160000
DTEND;TZID=America/New_York:20260429T210000
DTSTAMP:20260424T113738
CREATED:20250929T143020Z
LAST-MODIFIED:20250929T150825Z
UID:10009287-1777478400-1777496400@monocacybrewing.com
SUMMARY:The Alley Wagon Food Truck at MBC
DESCRIPTION:
URL:https://monocacybrewing.com/event/the-alley-wagon-food-truck-at-mbc/2026-04-29/
LOCATION:Monocacy Brewing Company\, 1781 North Market Street\, Frederick\, MD\, 21701\, United States
CATEGORIES:Food Trucks
ATTACH;FMTTYPE=image/png:https://monocacybrewing.com/wp-content/uploads/2025/09/ALLEY-WAGON-@-MBC-5.png
END:VEVENT
BEGIN:VEVENT
DTSTART;TZID=America/New_York:20260430T160000
DTEND;TZID=America/New_York:20260430T210000
DTSTAMP:20260424T113738
CREATED:20250929T143020Z
LAST-MODIFIED:20250929T150825Z
UID:10009288-1777564800-1777582800@monocacybrewing.com
SUMMARY:The Alley Wagon Food Truck at MBC
DESCRIPTION:
URL:https://monocacybrewing.com/event/the-alley-wagon-food-truck-at-mbc/2026-04-30/
LOCATION:Monocacy Brewing Company\, 1781 North Market Street\, Frederick\, MD\, 21701\, United States
CATEGORIES:Food Trucks
ATTACH;FMTTYPE=image/png:https://monocacybrewing.com/wp-content/uploads/2025/09/ALLEY-WAGON-@-MBC-5.png
END:VEVENT
END:VCALENDAR