BEGIN:VCALENDAR
VERSION:2.0
PRODID:-//Monocacy Brewing Company - ECPv6.15.17.1//NONSGML v1.0//EN
CALSCALE:GREGORIAN
METHOD:PUBLISH
X-ORIGINAL-URL:https://monocacybrewing.com
X-WR-CALDESC:Events for Monocacy Brewing Company
REFRESH-INTERVAL;VALUE=DURATION:PT1H
X-Robots-Tag:noindex
X-PUBLISHED-TTL:PT1H
BEGIN:VTIMEZONE
TZID:America/New_York
BEGIN:DAYLIGHT
TZOFFSETFROM:-0500
TZOFFSETTO:-0400
TZNAME:EDT
DTSTART:20180311T070000
END:DAYLIGHT
BEGIN:STANDARD
TZOFFSETFROM:-0400
TZOFFSETTO:-0500
TZNAME:EST
DTSTART:20181104T060000
END:STANDARD
BEGIN:DAYLIGHT
TZOFFSETFROM:-0500
TZOFFSETTO:-0400
TZNAME:EDT
DTSTART:20190310T070000
END:DAYLIGHT
BEGIN:STANDARD
TZOFFSETFROM:-0400
TZOFFSETTO:-0500
TZNAME:EST
DTSTART:20191103T060000
END:STANDARD
BEGIN:DAYLIGHT
TZOFFSETFROM:-0500
TZOFFSETTO:-0400
TZNAME:EDT
DTSTART:20200308T070000
END:DAYLIGHT
BEGIN:STANDARD
TZOFFSETFROM:-0400
TZOFFSETTO:-0500
TZNAME:EST
DTSTART:20201101T060000
END:STANDARD
END:VTIMEZONE
BEGIN:VEVENT
DTSTART;TZID=America/New_York:20191116T120000
DTEND;TZID=America/New_York:20191116T190000
DTSTAMP:20260419T205630
CREATED:20191021T173752Z
LAST-MODIFIED:20191021T173752Z
UID:10001036-1573905600-1573930800@monocacybrewing.com
SUMMARY:Frederick City Brewfest - Hosted by Rockwell Brewery
DESCRIPTION:Monocacy Brewing Co. will be joining a great lineup of other breweries form the City of Frederick for a day of phenomenal beer\, live music\, and delicious food truck offerings! Don’t miss this great opportunity to enjoy your fave Monocacy Brewing Co. beers while also showing support for the local brewery scene.
URL:https://monocacybrewing.com/event/frederick-city-brewfest-hosted-by-rockwell-brewery/
LOCATION:The Frederick Fairgrounds\, 797 E Patrick St\, Frederick\, MD\, 21701\, United States
CATEGORIES:Event
END:VEVENT
BEGIN:VEVENT
DTSTART;TZID=America/New_York:20191102T120000
DTEND;TZID=America/New_York:20191102T160000
DTSTAMP:20260419T205630
CREATED:20191021T173633Z
LAST-MODIFIED:20191021T173633Z
UID:10001035-1572696000-1572710400@monocacybrewing.com
SUMMARY:Pints for PanCan
DESCRIPTION:Come by the tasting room to support the Pancreatic Cancer Action Network! From 12p-4p\, $1 from each full pour of beer will help support the fight against pancreatic cancer in memory of our good friend\, Ed Shock. Raise a glass to kick cancer’s ass!
URL:https://monocacybrewing.com/event/pints-for-pancan/
LOCATION:Monocacy Brewing Company\, 1781 North Market Street\, Frederick\, MD\, 21701\, United States
CATEGORIES:Event
END:VEVENT
BEGIN:VEVENT
DTSTART;TZID=America/New_York:20191101T190000
DTEND;TZID=America/New_York:20191101T210000
DTSTAMP:20260419T205630
CREATED:20190924T183312Z
LAST-MODIFIED:20190927T134551Z
UID:10001026-1572634800-1572642000@monocacybrewing.com
SUMMARY:Pints & Frights: Night of the Living Dead
DESCRIPTION:Showing: Night of the Living Dead\nEvery Friday in October\, we’re bringing you some cinematic gold in the tasting room! Come enjoy your favorite Monocacy brew while watching a classic sci-fi or horror flick. Are gnarly zombies\, creepy vampires\, and mysterious space creatures your jam? Then don’t miss out!
URL:https://monocacybrewing.com/event/pints-frights-5/
LOCATION:Monocacy Brewing Company\, 1781 North Market Street\, Frederick\, MD\, 21701\, United States
CATEGORIES:Event
END:VEVENT
BEGIN:VEVENT
DTSTART;TZID=America/New_York:20191025T190000
DTEND;TZID=America/New_York:20191025T210000
DTSTAMP:20260419T205630
CREATED:20190924T183239Z
LAST-MODIFIED:20190927T134619Z
UID:10001025-1572030000-1572037200@monocacybrewing.com
SUMMARY:Pints & Frights: Carnival of Souls
DESCRIPTION:Showing: Carnival of Souls\nEvery Friday in October\, we’re bringing you some cinematic gold in the tasting room! Come enjoy your favorite Monocacy brew while watching a classic sci-fi or horror flick. Are gnarly zombies\, creepy vampires\, and mysterious space creatures your jam? Then don’t miss out! \n 
URL:https://monocacybrewing.com/event/pints-frights-4/
LOCATION:Monocacy Brewing Company\, 1781 North Market Street\, Frederick\, MD\, 21701\, United States
CATEGORIES:Event
END:VEVENT
BEGIN:VEVENT
DTSTART;TZID=America/New_York:20191018T190000
DTEND;TZID=America/New_York:20191018T210000
DTSTAMP:20260419T205630
CREATED:20190924T183153Z
LAST-MODIFIED:20190927T134648Z
UID:10001024-1571425200-1571432400@monocacybrewing.com
SUMMARY:Pints & Frights: Plan 9 from Outer Space
DESCRIPTION:Showing: Plan 9 from Outer Space\nEvery Friday in October\, we’re bringing you some cinematic gold in the tasting room! Come enjoy your favorite Monocacy brew while watching a classic sci-fi or horror flick. Are gnarly zombies\, creepy vampires\, and mysterious space creatures your jam? Then don’t miss out! \n\n 
URL:https://monocacybrewing.com/event/pints-frights-3/
LOCATION:Monocacy Brewing Company\, 1781 North Market Street\, Frederick\, MD\, 21701\, United States
CATEGORIES:Event
END:VEVENT
BEGIN:VEVENT
DTSTART;TZID=America/New_York:20191012T130000
DTEND;TZID=America/New_York:20191012T160000
DTSTAMP:20260419T205630
CREATED:20190924T183436Z
LAST-MODIFIED:20190927T134439Z
UID:10001027-1570885200-1570896000@monocacybrewing.com
SUMMARY:Tails & Ales
DESCRIPTION:Come out to Monocacy Brewing Company with your leashed\, well behaved pup and enjoy craft beer\, delicious local food\, and the company of fellow animal lovers! Frederick County Animal Control\, Maryland will be there with adoptable animals – they love to get out and meet people 🙂 If you don’t have a dog\, or can’t bring them\, please still come out to support our cause – $1 from the sale of each pint from the event will benefit Frederick Friends of Our County Animal Shelter. This is a kid-friendly event\, and Monocacy has plenty of space indoors and outdoors to play games\, spend time together\, and raise money for a good cause. We can’t wait to see you there! 
URL:https://monocacybrewing.com/event/tails-ales/
LOCATION:Monocacy Brewing Company\, 1781 North Market Street\, Frederick\, MD\, 21701\, United States
CATEGORIES:Event
END:VEVENT
BEGIN:VEVENT
DTSTART;TZID=America/New_York:20191011T190000
DTEND;TZID=America/New_York:20191011T210000
DTSTAMP:20260419T205630
CREATED:20190924T183108Z
LAST-MODIFIED:20190927T134717Z
UID:10001023-1570820400-1570827600@monocacybrewing.com
SUMMARY:Pints & Frights: Dementia 13
DESCRIPTION:Showing: Dementia 13\nEvery Friday in October\, we’re bringing you some cinematic gold in the tasting room! Come enjoy your favorite Monocacy brew while watching a classic sci-fi or horror flick. Are gnarly zombies\, creepy vampires\, and mysterious space creatures your jam? Then don’t miss out!
URL:https://monocacybrewing.com/event/pints-frights-2/
LOCATION:Monocacy Brewing Company\, 1781 North Market Street\, Frederick\, MD\, 21701\, United States
CATEGORIES:Event
END:VEVENT
BEGIN:VEVENT
DTSTART;TZID=America/New_York:20191004T190000
DTEND;TZID=America/New_York:20191004T210000
DTSTAMP:20260419T205630
CREATED:20190924T183020Z
LAST-MODIFIED:20190927T134741Z
UID:10001022-1570215600-1570222800@monocacybrewing.com
SUMMARY:Pints & Frights: Nosferatu
DESCRIPTION:Showing: Nosferatu\nEvery Friday in October\, we’re bringing you some cinematic gold in the tasting room! Come enjoy your favorite Monocacy brew while watching a classic sci-fi or horror flick. Are gnarly zombies\, creepy vampires\, and mysterious space creatures your jam? Then don’t miss out!
URL:https://monocacybrewing.com/event/pints-frights/
LOCATION:Monocacy Brewing Company\, 1781 North Market Street\, Frederick\, MD\, 21701\, United States
CATEGORIES:Event
END:VEVENT
END:VCALENDAR