BEGIN:VCALENDAR
VERSION:2.0
PRODID:-//Monocacy Brewing Company - ECPv6.15.17.1//NONSGML v1.0//EN
CALSCALE:GREGORIAN
METHOD:PUBLISH
X-ORIGINAL-URL:https://monocacybrewing.com
X-WR-CALDESC:Events for Monocacy Brewing Company
REFRESH-INTERVAL;VALUE=DURATION:PT1H
X-Robots-Tag:noindex
X-PUBLISHED-TTL:PT1H
BEGIN:VTIMEZONE
TZID:America/New_York
BEGIN:DAYLIGHT
TZOFFSETFROM:-0500
TZOFFSETTO:-0400
TZNAME:EDT
DTSTART:20240310T070000
END:DAYLIGHT
BEGIN:STANDARD
TZOFFSETFROM:-0400
TZOFFSETTO:-0500
TZNAME:EST
DTSTART:20241103T060000
END:STANDARD
BEGIN:DAYLIGHT
TZOFFSETFROM:-0500
TZOFFSETTO:-0400
TZNAME:EDT
DTSTART:20250309T070000
END:DAYLIGHT
BEGIN:STANDARD
TZOFFSETFROM:-0400
TZOFFSETTO:-0500
TZNAME:EST
DTSTART:20251102T060000
END:STANDARD
BEGIN:DAYLIGHT
TZOFFSETFROM:-0500
TZOFFSETTO:-0400
TZNAME:EDT
DTSTART:20260308T070000
END:DAYLIGHT
BEGIN:STANDARD
TZOFFSETFROM:-0400
TZOFFSETTO:-0500
TZNAME:EST
DTSTART:20261101T060000
END:STANDARD
END:VTIMEZONE
BEGIN:VEVENT
DTSTART;VALUE=DATE:20250901
DTEND;VALUE=DATE:20250902
DTSTAMP:20260421T083340
CREATED:20250827T160049Z
LAST-MODIFIED:20250827T215929Z
UID:10008413-1756684800-1756771199@monocacybrewing.com
SUMMARY:LABOR DAY HOURS: OPEN 12PM - 9PM
DESCRIPTION:We are open all day long\, with $5 draft pours from open to close! Celebrate the day with a cold beer and a burger from Boxcar Burgers for the perfect day off!
URL:https://monocacybrewing.com/event/labor-day-hours-open-12pm-9pm/
LOCATION:MD
CATEGORIES:Event
END:VEVENT
BEGIN:VEVENT
DTSTART;TZID=America/New_York:20250901T120000
DTEND;TZID=America/New_York:20250901T210000
DTSTAMP:20260421T083340
CREATED:20250828T012705Z
LAST-MODIFIED:20250828T012705Z
UID:10008680-1756728000-1756760400@monocacybrewing.com
SUMMARY:LABOR DAY - $5 DRAFT POURS
DESCRIPTION:All full pours of draft beer are just $5\, 12PM – 9PM!
URL:https://monocacybrewing.com/event/labor-day-5-draft-pours/
LOCATION:Monocacy Brewing Company\, 1781 North Market Street\, Frederick\, MD\, 21701\, United States
CATEGORIES:Discount,Event
END:VEVENT
BEGIN:VEVENT
DTSTART;TZID=America/New_York:20250905T180000
DTEND;TZID=America/New_York:20250905T210000
DTSTAMP:20260421T083340
CREATED:20250827T222531Z
LAST-MODIFIED:20250827T222602Z
UID:10008414-1757095200-1757106000@monocacybrewing.com
SUMMARY:Fridays at the Fountain : Live Music with ilyAIMY
DESCRIPTION:For over two decades\, Rob Hinkal and Heather Aubrey Lloyd have crisscrossed the nation as ilyAIMY (i love you And I Miss You) playing everything from bait shops to biker weeks to clothing-optional resorts\, folk festivals\, heavy metal festivals\, coffeehouses and colleges. \nAward-winning narrative songs with soulful\, powerful male / female harmonies and a percussive\, clawhammer-like acoustic guitar provide the heart of the band\, while their infectious energy and rapid-fire lyricism is softened with cello\, driven by Irish bones and bodhran\, beatboxing\, djembe\, and thickened by didgeridoo\, synths and keys creating “an acoustically roiling\, combustible attack on the usual singer/songwriter fare”.
URL:https://monocacybrewing.com/event/fridays-at-the-fountain-live-music-with-ilyaimy/
LOCATION:Monocacy Brewing Company\, 1781 North Market Street\, Frederick\, MD\, 21701\, United States
CATEGORIES:Event,Live Music
END:VEVENT
BEGIN:VEVENT
DTSTART;TZID=America/New_York:20250912T180000
DTEND;TZID=America/New_York:20250912T210000
DTSTAMP:20260421T083340
CREATED:20250828T001709Z
LAST-MODIFIED:20250828T001709Z
UID:10008416-1757700000-1757710800@monocacybrewing.com
SUMMARY:Fridays at the Fountain : Live Music with Bodine Brothers Band
DESCRIPTION:Classic Rock (70s-80s)\, rockin’ Country\, a little blues and more.
URL:https://monocacybrewing.com/event/fridays-at-the-fountain-live-music-with-bodine-brothers/
LOCATION:Monocacy Brewing Company\, 1781 North Market Street\, Frederick\, MD\, 21701\, United States
CATEGORIES:Event,Live Music
END:VEVENT
BEGIN:VEVENT
DTSTART;TZID=America/New_York:20250918T190000
DTEND;TZID=America/New_York:20250918T210000
DTSTAMP:20260421T083340
CREATED:20250830T193639Z
LAST-MODIFIED:20250901T193644Z
UID:10008941-1758222000-1758229200@monocacybrewing.com
SUMMARY:BBQ & Beer Pairing Event with Red Q BBQ
DESCRIPTION:Ticketed Event 🎟\n$45/person\, not to include tax or gratuity. Copy and paste this link for tickets or click the website link below! https://order.toasttab.com/online/monocacy-brewing \n• 21 years or older event.\n• BBQ Sauces by Red Q BBQ of Rockville\, MD paired with some of your favorite MBC brews!\n• Ticket includes 4-5 different RQB BBQ sauces and 5 – 5oz draft pours\, as well as a buffet to include chicken\, ribs\, and an assortment of sides. All food provided by our co-hosts with Executive Chef Vylla from Red Queen BBQ!\n• Tickets are limited!
URL:https://monocacybrewing.com/event/bbq-beer-pairing-event-with-red-q-bbq/
LOCATION:Monocacy Brewing Company\, 1781 North Market Street\, Frederick\, MD\, 21701\, United States
CATEGORIES:Event
ATTACH;FMTTYPE=image/png:https://monocacybrewing.com/wp-content/uploads/2025/08/AT.png
END:VEVENT
BEGIN:VEVENT
DTSTART;TZID=America/New_York:20250926T180000
DTEND;TZID=America/New_York:20250926T210000
DTSTAMP:20260421T083340
CREATED:20250828T002155Z
LAST-MODIFIED:20250828T002155Z
UID:10008418-1758909600-1758920400@monocacybrewing.com
SUMMARY:Fridays at the Fountain : Live Music with The Dirty Middle
DESCRIPTION:Frederick based rock and blues band.
URL:https://monocacybrewing.com/event/fridays-at-the-fountain-live-music-with-dirty-middle/
LOCATION:Monocacy Brewing Company\, 1781 North Market Street\, Frederick\, MD\, 21701\, United States
CATEGORIES:Event,Live Music
END:VEVENT
BEGIN:VEVENT
DTSTART;TZID=America/New_York:20250927T180000
DTEND;TZID=America/New_York:20250927T210000
DTSTAMP:20260421T083340
CREATED:20250828T001919Z
LAST-MODIFIED:20250828T001919Z
UID:10008417-1758996000-1759006800@monocacybrewing.com
SUMMARY:Live Music: Cory Cotter
DESCRIPTION:Acoustic covers!
URL:https://monocacybrewing.com/event/live-music-cory-cotter-11/
LOCATION:MD
CATEGORIES:Event,Live Music
END:VEVENT
END:VCALENDAR