BEGIN:VCALENDAR
VERSION:2.0
PRODID:-//Monocacy Brewing Company - ECPv6.15.17.1//NONSGML v1.0//EN
CALSCALE:GREGORIAN
METHOD:PUBLISH
X-ORIGINAL-URL:https://monocacybrewing.com
X-WR-CALDESC:Events for Monocacy Brewing Company
REFRESH-INTERVAL;VALUE=DURATION:PT1H
X-Robots-Tag:noindex
X-PUBLISHED-TTL:PT1H
BEGIN:VTIMEZONE
TZID:America/New_York
BEGIN:DAYLIGHT
TZOFFSETFROM:-0500
TZOFFSETTO:-0400
TZNAME:EDT
DTSTART:20260308T070000
END:DAYLIGHT
BEGIN:STANDARD
TZOFFSETFROM:-0400
TZOFFSETTO:-0500
TZNAME:EST
DTSTART:20261101T060000
END:STANDARD
BEGIN:DAYLIGHT
TZOFFSETFROM:-0500
TZOFFSETTO:-0400
TZNAME:EDT
DTSTART:20270314T070000
END:DAYLIGHT
BEGIN:STANDARD
TZOFFSETFROM:-0400
TZOFFSETTO:-0500
TZNAME:EST
DTSTART:20271107T060000
END:STANDARD
BEGIN:DAYLIGHT
TZOFFSETFROM:-0500
TZOFFSETTO:-0400
TZNAME:EDT
DTSTART:20280312T070000
END:DAYLIGHT
BEGIN:STANDARD
TZOFFSETFROM:-0400
TZOFFSETTO:-0500
TZNAME:EST
DTSTART:20281105T060000
END:STANDARD
BEGIN:DAYLIGHT
TZOFFSETFROM:-0500
TZOFFSETTO:-0400
TZNAME:EDT
DTSTART:20290311T070000
END:DAYLIGHT
BEGIN:STANDARD
TZOFFSETFROM:-0400
TZOFFSETTO:-0500
TZNAME:EST
DTSTART:20291104T060000
END:STANDARD
END:VTIMEZONE
BEGIN:VEVENT
DTSTART;TZID=America/New_York:20270924T120000
DTEND;TZID=America/New_York:20270924T220000
DTSTAMP:20260425T235744
CREATED:20250827T213810Z
LAST-MODIFIED:20250827T213812Z
UID:10007907-1821787200-1821823200@monocacybrewing.com
SUMMARY:Teacher's Happy Hour! Teachers get 20% off draft beer!
DESCRIPTION:
URL:https://monocacybrewing.com/event/teachers-happy-hour-teachers-get-15-off-draft-beer-2/2027-09-24/
CATEGORIES:Discount
END:VEVENT
BEGIN:VEVENT
DTSTART;TZID=America/New_York:20271001T120000
DTEND;TZID=America/New_York:20271001T220000
DTSTAMP:20260425T235744
CREATED:20250827T213810Z
LAST-MODIFIED:20250827T213812Z
UID:10007908-1822392000-1822428000@monocacybrewing.com
SUMMARY:Teacher's Happy Hour! Teachers get 20% off draft beer!
DESCRIPTION:
URL:https://monocacybrewing.com/event/teachers-happy-hour-teachers-get-15-off-draft-beer-2/2027-10-01/
CATEGORIES:Discount
END:VEVENT
BEGIN:VEVENT
DTSTART;TZID=America/New_York:20271008T120000
DTEND;TZID=America/New_York:20271008T220000
DTSTAMP:20260425T235744
CREATED:20250827T213810Z
LAST-MODIFIED:20250827T213812Z
UID:10007909-1822996800-1823032800@monocacybrewing.com
SUMMARY:Teacher's Happy Hour! Teachers get 20% off draft beer!
DESCRIPTION:
URL:https://monocacybrewing.com/event/teachers-happy-hour-teachers-get-15-off-draft-beer-2/2027-10-08/
CATEGORIES:Discount
END:VEVENT
BEGIN:VEVENT
DTSTART;TZID=America/New_York:20271015T120000
DTEND;TZID=America/New_York:20271015T220000
DTSTAMP:20260425T235744
CREATED:20250827T213810Z
LAST-MODIFIED:20250827T213812Z
UID:10007910-1823601600-1823637600@monocacybrewing.com
SUMMARY:Teacher's Happy Hour! Teachers get 20% off draft beer!
DESCRIPTION:
URL:https://monocacybrewing.com/event/teachers-happy-hour-teachers-get-15-off-draft-beer-2/2027-10-15/
CATEGORIES:Discount
END:VEVENT
BEGIN:VEVENT
DTSTART;TZID=America/New_York:20271022T120000
DTEND;TZID=America/New_York:20271022T220000
DTSTAMP:20260425T235744
CREATED:20250827T213810Z
LAST-MODIFIED:20250827T213812Z
UID:10007911-1824206400-1824242400@monocacybrewing.com
SUMMARY:Teacher's Happy Hour! Teachers get 20% off draft beer!
DESCRIPTION:
URL:https://monocacybrewing.com/event/teachers-happy-hour-teachers-get-15-off-draft-beer-2/2027-10-22/
CATEGORIES:Discount
END:VEVENT
BEGIN:VEVENT
DTSTART;TZID=America/New_York:20271029T120000
DTEND;TZID=America/New_York:20271029T220000
DTSTAMP:20260425T235744
CREATED:20250827T213810Z
LAST-MODIFIED:20250827T213812Z
UID:10007912-1824811200-1824847200@monocacybrewing.com
SUMMARY:Teacher's Happy Hour! Teachers get 20% off draft beer!
DESCRIPTION:
URL:https://monocacybrewing.com/event/teachers-happy-hour-teachers-get-15-off-draft-beer-2/2027-10-29/
CATEGORIES:Discount
END:VEVENT
BEGIN:VEVENT
DTSTART;TZID=America/New_York:20271105T120000
DTEND;TZID=America/New_York:20271105T220000
DTSTAMP:20260425T235744
CREATED:20250827T213810Z
LAST-MODIFIED:20250827T213812Z
UID:10007913-1825416000-1825452000@monocacybrewing.com
SUMMARY:Teacher's Happy Hour! Teachers get 20% off draft beer!
DESCRIPTION:
URL:https://monocacybrewing.com/event/teachers-happy-hour-teachers-get-15-off-draft-beer-2/2027-11-05/
CATEGORIES:Discount
END:VEVENT
BEGIN:VEVENT
DTSTART;TZID=America/New_York:20271112T120000
DTEND;TZID=America/New_York:20271112T220000
DTSTAMP:20260425T235744
CREATED:20250827T213810Z
LAST-MODIFIED:20250827T213812Z
UID:10007914-1826020800-1826056800@monocacybrewing.com
SUMMARY:Teacher's Happy Hour! Teachers get 20% off draft beer!
DESCRIPTION:
URL:https://monocacybrewing.com/event/teachers-happy-hour-teachers-get-15-off-draft-beer-2/2027-11-12/
CATEGORIES:Discount
END:VEVENT
BEGIN:VEVENT
DTSTART;TZID=America/New_York:20271119T120000
DTEND;TZID=America/New_York:20271119T220000
DTSTAMP:20260425T235744
CREATED:20250827T213810Z
LAST-MODIFIED:20250827T213812Z
UID:10007915-1826625600-1826661600@monocacybrewing.com
SUMMARY:Teacher's Happy Hour! Teachers get 20% off draft beer!
DESCRIPTION:
URL:https://monocacybrewing.com/event/teachers-happy-hour-teachers-get-15-off-draft-beer-2/2027-11-19/
CATEGORIES:Discount
END:VEVENT
BEGIN:VEVENT
DTSTART;TZID=America/New_York:20271126T120000
DTEND;TZID=America/New_York:20271126T220000
DTSTAMP:20260425T235744
CREATED:20250827T213810Z
LAST-MODIFIED:20250827T213812Z
UID:10007916-1827230400-1827266400@monocacybrewing.com
SUMMARY:Teacher's Happy Hour! Teachers get 20% off draft beer!
DESCRIPTION:
URL:https://monocacybrewing.com/event/teachers-happy-hour-teachers-get-15-off-draft-beer-2/2027-11-26/
CATEGORIES:Discount
END:VEVENT
BEGIN:VEVENT
DTSTART;TZID=America/New_York:20271203T120000
DTEND;TZID=America/New_York:20271203T220000
DTSTAMP:20260425T235744
CREATED:20250827T213810Z
LAST-MODIFIED:20250827T213812Z
UID:10007917-1827835200-1827871200@monocacybrewing.com
SUMMARY:Teacher's Happy Hour! Teachers get 20% off draft beer!
DESCRIPTION:
URL:https://monocacybrewing.com/event/teachers-happy-hour-teachers-get-15-off-draft-beer-2/2027-12-03/
CATEGORIES:Discount
END:VEVENT
BEGIN:VEVENT
DTSTART;TZID=America/New_York:20271210T120000
DTEND;TZID=America/New_York:20271210T220000
DTSTAMP:20260425T235744
CREATED:20250827T213810Z
LAST-MODIFIED:20250827T213812Z
UID:10007918-1828440000-1828476000@monocacybrewing.com
SUMMARY:Teacher's Happy Hour! Teachers get 20% off draft beer!
DESCRIPTION:
URL:https://monocacybrewing.com/event/teachers-happy-hour-teachers-get-15-off-draft-beer-2/2027-12-10/
CATEGORIES:Discount
END:VEVENT
BEGIN:VEVENT
DTSTART;TZID=America/New_York:20271217T120000
DTEND;TZID=America/New_York:20271217T220000
DTSTAMP:20260425T235744
CREATED:20250827T213810Z
LAST-MODIFIED:20250827T213812Z
UID:10007919-1829044800-1829080800@monocacybrewing.com
SUMMARY:Teacher's Happy Hour! Teachers get 20% off draft beer!
DESCRIPTION:
URL:https://monocacybrewing.com/event/teachers-happy-hour-teachers-get-15-off-draft-beer-2/2027-12-17/
CATEGORIES:Discount
END:VEVENT
BEGIN:VEVENT
DTSTART;TZID=America/New_York:20271224T120000
DTEND;TZID=America/New_York:20271224T220000
DTSTAMP:20260425T235744
CREATED:20250827T213810Z
LAST-MODIFIED:20250827T213812Z
UID:10007920-1829649600-1829685600@monocacybrewing.com
SUMMARY:Teacher's Happy Hour! Teachers get 20% off draft beer!
DESCRIPTION:
URL:https://monocacybrewing.com/event/teachers-happy-hour-teachers-get-15-off-draft-beer-2/2027-12-24/
CATEGORIES:Discount
END:VEVENT
BEGIN:VEVENT
DTSTART;TZID=America/New_York:20271231T120000
DTEND;TZID=America/New_York:20271231T220000
DTSTAMP:20260425T235744
CREATED:20250827T213810Z
LAST-MODIFIED:20250827T213812Z
UID:10007921-1830254400-1830290400@monocacybrewing.com
SUMMARY:Teacher's Happy Hour! Teachers get 20% off draft beer!
DESCRIPTION:
URL:https://monocacybrewing.com/event/teachers-happy-hour-teachers-get-15-off-draft-beer-2/2027-12-31/
CATEGORIES:Discount
END:VEVENT
BEGIN:VEVENT
DTSTART;TZID=America/New_York:20280107T120000
DTEND;TZID=America/New_York:20280107T220000
DTSTAMP:20260425T235744
CREATED:20250827T213810Z
LAST-MODIFIED:20250827T213812Z
UID:10007922-1830859200-1830895200@monocacybrewing.com
SUMMARY:Teacher's Happy Hour! Teachers get 20% off draft beer!
DESCRIPTION:
URL:https://monocacybrewing.com/event/teachers-happy-hour-teachers-get-15-off-draft-beer-2/2028-01-07/
CATEGORIES:Discount
END:VEVENT
BEGIN:VEVENT
DTSTART;TZID=America/New_York:20280114T120000
DTEND;TZID=America/New_York:20280114T220000
DTSTAMP:20260425T235744
CREATED:20250827T213810Z
LAST-MODIFIED:20250827T213812Z
UID:10007923-1831464000-1831500000@monocacybrewing.com
SUMMARY:Teacher's Happy Hour! Teachers get 20% off draft beer!
DESCRIPTION:
URL:https://monocacybrewing.com/event/teachers-happy-hour-teachers-get-15-off-draft-beer-2/2028-01-14/
CATEGORIES:Discount
END:VEVENT
BEGIN:VEVENT
DTSTART;TZID=America/New_York:20280121T120000
DTEND;TZID=America/New_York:20280121T220000
DTSTAMP:20260425T235744
CREATED:20250827T213810Z
LAST-MODIFIED:20250827T213812Z
UID:10007924-1832068800-1832104800@monocacybrewing.com
SUMMARY:Teacher's Happy Hour! Teachers get 20% off draft beer!
DESCRIPTION:
URL:https://monocacybrewing.com/event/teachers-happy-hour-teachers-get-15-off-draft-beer-2/2028-01-21/
CATEGORIES:Discount
END:VEVENT
BEGIN:VEVENT
DTSTART;TZID=America/New_York:20280128T120000
DTEND;TZID=America/New_York:20280128T220000
DTSTAMP:20260425T235744
CREATED:20250827T213810Z
LAST-MODIFIED:20250827T213812Z
UID:10007925-1832673600-1832709600@monocacybrewing.com
SUMMARY:Teacher's Happy Hour! Teachers get 20% off draft beer!
DESCRIPTION:
URL:https://monocacybrewing.com/event/teachers-happy-hour-teachers-get-15-off-draft-beer-2/2028-01-28/
CATEGORIES:Discount
END:VEVENT
BEGIN:VEVENT
DTSTART;TZID=America/New_York:20280204T120000
DTEND;TZID=America/New_York:20280204T220000
DTSTAMP:20260425T235744
CREATED:20250827T213810Z
LAST-MODIFIED:20250827T213812Z
UID:10007926-1833278400-1833314400@monocacybrewing.com
SUMMARY:Teacher's Happy Hour! Teachers get 20% off draft beer!
DESCRIPTION:
URL:https://monocacybrewing.com/event/teachers-happy-hour-teachers-get-15-off-draft-beer-2/2028-02-04/
CATEGORIES:Discount
END:VEVENT
BEGIN:VEVENT
DTSTART;TZID=America/New_York:20280211T120000
DTEND;TZID=America/New_York:20280211T220000
DTSTAMP:20260425T235744
CREATED:20250827T213810Z
LAST-MODIFIED:20250827T213812Z
UID:10007927-1833883200-1833919200@monocacybrewing.com
SUMMARY:Teacher's Happy Hour! Teachers get 20% off draft beer!
DESCRIPTION:
URL:https://monocacybrewing.com/event/teachers-happy-hour-teachers-get-15-off-draft-beer-2/2028-02-11/
CATEGORIES:Discount
END:VEVENT
BEGIN:VEVENT
DTSTART;TZID=America/New_York:20280218T120000
DTEND;TZID=America/New_York:20280218T220000
DTSTAMP:20260425T235744
CREATED:20250827T213810Z
LAST-MODIFIED:20250827T213812Z
UID:10007928-1834488000-1834524000@monocacybrewing.com
SUMMARY:Teacher's Happy Hour! Teachers get 20% off draft beer!
DESCRIPTION:
URL:https://monocacybrewing.com/event/teachers-happy-hour-teachers-get-15-off-draft-beer-2/2028-02-18/
CATEGORIES:Discount
END:VEVENT
BEGIN:VEVENT
DTSTART;TZID=America/New_York:20280225T120000
DTEND;TZID=America/New_York:20280225T220000
DTSTAMP:20260425T235744
CREATED:20250827T213810Z
LAST-MODIFIED:20250827T213812Z
UID:10007929-1835092800-1835128800@monocacybrewing.com
SUMMARY:Teacher's Happy Hour! Teachers get 20% off draft beer!
DESCRIPTION:
URL:https://monocacybrewing.com/event/teachers-happy-hour-teachers-get-15-off-draft-beer-2/2028-02-25/
CATEGORIES:Discount
END:VEVENT
BEGIN:VEVENT
DTSTART;TZID=America/New_York:20280303T120000
DTEND;TZID=America/New_York:20280303T220000
DTSTAMP:20260425T235744
CREATED:20250827T213810Z
LAST-MODIFIED:20250827T213812Z
UID:10007930-1835697600-1835733600@monocacybrewing.com
SUMMARY:Teacher's Happy Hour! Teachers get 20% off draft beer!
DESCRIPTION:
URL:https://monocacybrewing.com/event/teachers-happy-hour-teachers-get-15-off-draft-beer-2/2028-03-03/
CATEGORIES:Discount
END:VEVENT
BEGIN:VEVENT
DTSTART;TZID=America/New_York:20280310T120000
DTEND;TZID=America/New_York:20280310T220000
DTSTAMP:20260425T235744
CREATED:20250827T213810Z
LAST-MODIFIED:20250827T213812Z
UID:10007931-1836302400-1836338400@monocacybrewing.com
SUMMARY:Teacher's Happy Hour! Teachers get 20% off draft beer!
DESCRIPTION:
URL:https://monocacybrewing.com/event/teachers-happy-hour-teachers-get-15-off-draft-beer-2/2028-03-10/
CATEGORIES:Discount
END:VEVENT
BEGIN:VEVENT
DTSTART;TZID=America/New_York:20280317T120000
DTEND;TZID=America/New_York:20280317T220000
DTSTAMP:20260425T235744
CREATED:20250827T213810Z
LAST-MODIFIED:20250827T213812Z
UID:10007932-1836907200-1836943200@monocacybrewing.com
SUMMARY:Teacher's Happy Hour! Teachers get 20% off draft beer!
DESCRIPTION:
URL:https://monocacybrewing.com/event/teachers-happy-hour-teachers-get-15-off-draft-beer-2/2028-03-17/
CATEGORIES:Discount
END:VEVENT
BEGIN:VEVENT
DTSTART;TZID=America/New_York:20280324T120000
DTEND;TZID=America/New_York:20280324T220000
DTSTAMP:20260425T235744
CREATED:20250827T213810Z
LAST-MODIFIED:20250827T213812Z
UID:10007933-1837512000-1837548000@monocacybrewing.com
SUMMARY:Teacher's Happy Hour! Teachers get 20% off draft beer!
DESCRIPTION:
URL:https://monocacybrewing.com/event/teachers-happy-hour-teachers-get-15-off-draft-beer-2/2028-03-24/
CATEGORIES:Discount
END:VEVENT
BEGIN:VEVENT
DTSTART;TZID=America/New_York:20280331T120000
DTEND;TZID=America/New_York:20280331T220000
DTSTAMP:20260425T235744
CREATED:20250827T213810Z
LAST-MODIFIED:20250827T213812Z
UID:10007934-1838116800-1838152800@monocacybrewing.com
SUMMARY:Teacher's Happy Hour! Teachers get 20% off draft beer!
DESCRIPTION:
URL:https://monocacybrewing.com/event/teachers-happy-hour-teachers-get-15-off-draft-beer-2/2028-03-31/
CATEGORIES:Discount
END:VEVENT
BEGIN:VEVENT
DTSTART;TZID=America/New_York:20280407T120000
DTEND;TZID=America/New_York:20280407T220000
DTSTAMP:20260425T235744
CREATED:20250827T213810Z
LAST-MODIFIED:20250827T213812Z
UID:10007935-1838721600-1838757600@monocacybrewing.com
SUMMARY:Teacher's Happy Hour! Teachers get 20% off draft beer!
DESCRIPTION:
URL:https://monocacybrewing.com/event/teachers-happy-hour-teachers-get-15-off-draft-beer-2/2028-04-07/
CATEGORIES:Discount
END:VEVENT
BEGIN:VEVENT
DTSTART;TZID=America/New_York:20280414T120000
DTEND;TZID=America/New_York:20280414T220000
DTSTAMP:20260425T235744
CREATED:20250827T213810Z
LAST-MODIFIED:20250827T213812Z
UID:10007936-1839326400-1839362400@monocacybrewing.com
SUMMARY:Teacher's Happy Hour! Teachers get 20% off draft beer!
DESCRIPTION:
URL:https://monocacybrewing.com/event/teachers-happy-hour-teachers-get-15-off-draft-beer-2/2028-04-14/
CATEGORIES:Discount
END:VEVENT
END:VCALENDAR