BEGIN:VCALENDAR
VERSION:2.0
PRODID:-//Monocacy Brewing Company - ECPv6.15.17.1//NONSGML v1.0//EN
CALSCALE:GREGORIAN
METHOD:PUBLISH
X-WR-CALNAME:Monocacy Brewing Company
X-ORIGINAL-URL:https://monocacybrewing.com
X-WR-CALDESC:Events for Monocacy Brewing Company
REFRESH-INTERVAL;VALUE=DURATION:PT1H
X-Robots-Tag:noindex
X-PUBLISHED-TTL:PT1H
BEGIN:VTIMEZONE
TZID:America/New_York
BEGIN:DAYLIGHT
TZOFFSETFROM:-0500
TZOFFSETTO:-0400
TZNAME:EDT
DTSTART:20250309T070000
END:DAYLIGHT
BEGIN:STANDARD
TZOFFSETFROM:-0400
TZOFFSETTO:-0500
TZNAME:EST
DTSTART:20251102T060000
END:STANDARD
BEGIN:DAYLIGHT
TZOFFSETFROM:-0500
TZOFFSETTO:-0400
TZNAME:EDT
DTSTART:20260308T070000
END:DAYLIGHT
BEGIN:STANDARD
TZOFFSETFROM:-0400
TZOFFSETTO:-0500
TZNAME:EST
DTSTART:20261101T060000
END:STANDARD
BEGIN:DAYLIGHT
TZOFFSETFROM:-0500
TZOFFSETTO:-0400
TZNAME:EDT
DTSTART:20270314T070000
END:DAYLIGHT
BEGIN:STANDARD
TZOFFSETFROM:-0400
TZOFFSETTO:-0500
TZNAME:EST
DTSTART:20271107T060000
END:STANDARD
BEGIN:DAYLIGHT
TZOFFSETFROM:-0500
TZOFFSETTO:-0400
TZNAME:EDT
DTSTART:20280312T070000
END:DAYLIGHT
BEGIN:STANDARD
TZOFFSETFROM:-0400
TZOFFSETTO:-0500
TZNAME:EST
DTSTART:20281105T060000
END:STANDARD
END:VTIMEZONE
BEGIN:VEVENT
DTSTART;TZID=America/New_York:20260717T120000
DTEND;TZID=America/New_York:20260717T220000
DTSTAMP:20260425T082839
CREATED:20250827T213810Z
LAST-MODIFIED:20250827T213812Z
UID:10007845-1784289600-1784325600@monocacybrewing.com
SUMMARY:Teacher's Happy Hour! Teachers get 20% off draft beer!
DESCRIPTION:
URL:https://monocacybrewing.com/event/teachers-happy-hour-teachers-get-15-off-draft-beer-2/2026-07-17/
LOCATION:MD
CATEGORIES:Discount
END:VEVENT
BEGIN:VEVENT
DTSTART;TZID=America/New_York:20260724T120000
DTEND;TZID=America/New_York:20260724T220000
DTSTAMP:20260425T082839
CREATED:20250827T213810Z
LAST-MODIFIED:20250827T213812Z
UID:10007846-1784894400-1784930400@monocacybrewing.com
SUMMARY:Teacher's Happy Hour! Teachers get 20% off draft beer!
DESCRIPTION:
URL:https://monocacybrewing.com/event/teachers-happy-hour-teachers-get-15-off-draft-beer-2/2026-07-24/
LOCATION:MD
CATEGORIES:Discount
END:VEVENT
BEGIN:VEVENT
DTSTART;TZID=America/New_York:20260731T120000
DTEND;TZID=America/New_York:20260731T220000
DTSTAMP:20260425T082839
CREATED:20250827T213810Z
LAST-MODIFIED:20250827T213812Z
UID:10007847-1785499200-1785535200@monocacybrewing.com
SUMMARY:Teacher's Happy Hour! Teachers get 20% off draft beer!
DESCRIPTION:
URL:https://monocacybrewing.com/event/teachers-happy-hour-teachers-get-15-off-draft-beer-2/2026-07-31/
LOCATION:MD
CATEGORIES:Discount
END:VEVENT
BEGIN:VEVENT
DTSTART;TZID=America/New_York:20260807T120000
DTEND;TZID=America/New_York:20260807T220000
DTSTAMP:20260425T082839
CREATED:20250827T213810Z
LAST-MODIFIED:20250827T213812Z
UID:10007848-1786104000-1786140000@monocacybrewing.com
SUMMARY:Teacher's Happy Hour! Teachers get 20% off draft beer!
DESCRIPTION:
URL:https://monocacybrewing.com/event/teachers-happy-hour-teachers-get-15-off-draft-beer-2/2026-08-07/
LOCATION:MD
CATEGORIES:Discount
END:VEVENT
BEGIN:VEVENT
DTSTART;TZID=America/New_York:20260814T120000
DTEND;TZID=America/New_York:20260814T220000
DTSTAMP:20260425T082839
CREATED:20250827T213810Z
LAST-MODIFIED:20250827T213812Z
UID:10007849-1786708800-1786744800@monocacybrewing.com
SUMMARY:Teacher's Happy Hour! Teachers get 20% off draft beer!
DESCRIPTION:
URL:https://monocacybrewing.com/event/teachers-happy-hour-teachers-get-15-off-draft-beer-2/2026-08-14/
LOCATION:MD
CATEGORIES:Discount
END:VEVENT
BEGIN:VEVENT
DTSTART;TZID=America/New_York:20260821T120000
DTEND;TZID=America/New_York:20260821T220000
DTSTAMP:20260425T082839
CREATED:20250827T213810Z
LAST-MODIFIED:20250827T213812Z
UID:10007850-1787313600-1787349600@monocacybrewing.com
SUMMARY:Teacher's Happy Hour! Teachers get 20% off draft beer!
DESCRIPTION:
URL:https://monocacybrewing.com/event/teachers-happy-hour-teachers-get-15-off-draft-beer-2/2026-08-21/
LOCATION:MD
CATEGORIES:Discount
END:VEVENT
BEGIN:VEVENT
DTSTART;TZID=America/New_York:20260828T120000
DTEND;TZID=America/New_York:20260828T220000
DTSTAMP:20260425T082839
CREATED:20250827T213810Z
LAST-MODIFIED:20250827T213812Z
UID:10007851-1787918400-1787954400@monocacybrewing.com
SUMMARY:Teacher's Happy Hour! Teachers get 20% off draft beer!
DESCRIPTION:
URL:https://monocacybrewing.com/event/teachers-happy-hour-teachers-get-15-off-draft-beer-2/2026-08-28/
LOCATION:MD
CATEGORIES:Discount
END:VEVENT
BEGIN:VEVENT
DTSTART;TZID=America/New_York:20260904T120000
DTEND;TZID=America/New_York:20260904T220000
DTSTAMP:20260425T082839
CREATED:20250827T213810Z
LAST-MODIFIED:20250827T213812Z
UID:10007852-1788523200-1788559200@monocacybrewing.com
SUMMARY:Teacher's Happy Hour! Teachers get 20% off draft beer!
DESCRIPTION:
URL:https://monocacybrewing.com/event/teachers-happy-hour-teachers-get-15-off-draft-beer-2/2026-09-04/
LOCATION:MD
CATEGORIES:Discount
END:VEVENT
BEGIN:VEVENT
DTSTART;TZID=America/New_York:20260911T120000
DTEND;TZID=America/New_York:20260911T220000
DTSTAMP:20260425T082839
CREATED:20250827T213810Z
LAST-MODIFIED:20250827T213812Z
UID:10007853-1789128000-1789164000@monocacybrewing.com
SUMMARY:Teacher's Happy Hour! Teachers get 20% off draft beer!
DESCRIPTION:
URL:https://monocacybrewing.com/event/teachers-happy-hour-teachers-get-15-off-draft-beer-2/2026-09-11/
LOCATION:MD
CATEGORIES:Discount
END:VEVENT
BEGIN:VEVENT
DTSTART;TZID=America/New_York:20260918T120000
DTEND;TZID=America/New_York:20260918T220000
DTSTAMP:20260425T082839
CREATED:20250827T213810Z
LAST-MODIFIED:20250827T213812Z
UID:10007854-1789732800-1789768800@monocacybrewing.com
SUMMARY:Teacher's Happy Hour! Teachers get 20% off draft beer!
DESCRIPTION:
URL:https://monocacybrewing.com/event/teachers-happy-hour-teachers-get-15-off-draft-beer-2/2026-09-18/
LOCATION:MD
CATEGORIES:Discount
END:VEVENT
BEGIN:VEVENT
DTSTART;TZID=America/New_York:20260925T120000
DTEND;TZID=America/New_York:20260925T220000
DTSTAMP:20260425T082839
CREATED:20250827T213810Z
LAST-MODIFIED:20250827T213812Z
UID:10007855-1790337600-1790373600@monocacybrewing.com
SUMMARY:Teacher's Happy Hour! Teachers get 20% off draft beer!
DESCRIPTION:
URL:https://monocacybrewing.com/event/teachers-happy-hour-teachers-get-15-off-draft-beer-2/2026-09-25/
LOCATION:MD
CATEGORIES:Discount
END:VEVENT
BEGIN:VEVENT
DTSTART;TZID=America/New_York:20261002T120000
DTEND;TZID=America/New_York:20261002T220000
DTSTAMP:20260425T082839
CREATED:20250827T213810Z
LAST-MODIFIED:20250827T213812Z
UID:10007856-1790942400-1790978400@monocacybrewing.com
SUMMARY:Teacher's Happy Hour! Teachers get 20% off draft beer!
DESCRIPTION:
URL:https://monocacybrewing.com/event/teachers-happy-hour-teachers-get-15-off-draft-beer-2/2026-10-02/
LOCATION:MD
CATEGORIES:Discount
END:VEVENT
BEGIN:VEVENT
DTSTART;TZID=America/New_York:20261009T120000
DTEND;TZID=America/New_York:20261009T220000
DTSTAMP:20260425T082839
CREATED:20250827T213810Z
LAST-MODIFIED:20250827T213812Z
UID:10007857-1791547200-1791583200@monocacybrewing.com
SUMMARY:Teacher's Happy Hour! Teachers get 20% off draft beer!
DESCRIPTION:
URL:https://monocacybrewing.com/event/teachers-happy-hour-teachers-get-15-off-draft-beer-2/2026-10-09/
LOCATION:MD
CATEGORIES:Discount
END:VEVENT
BEGIN:VEVENT
DTSTART;TZID=America/New_York:20261016T120000
DTEND;TZID=America/New_York:20261016T220000
DTSTAMP:20260425T082839
CREATED:20250827T213810Z
LAST-MODIFIED:20250827T213812Z
UID:10007858-1792152000-1792188000@monocacybrewing.com
SUMMARY:Teacher's Happy Hour! Teachers get 20% off draft beer!
DESCRIPTION:
URL:https://monocacybrewing.com/event/teachers-happy-hour-teachers-get-15-off-draft-beer-2/2026-10-16/
LOCATION:MD
CATEGORIES:Discount
END:VEVENT
BEGIN:VEVENT
DTSTART;TZID=America/New_York:20261023T120000
DTEND;TZID=America/New_York:20261023T220000
DTSTAMP:20260425T082839
CREATED:20250827T213810Z
LAST-MODIFIED:20250827T213812Z
UID:10007859-1792756800-1792792800@monocacybrewing.com
SUMMARY:Teacher's Happy Hour! Teachers get 20% off draft beer!
DESCRIPTION:
URL:https://monocacybrewing.com/event/teachers-happy-hour-teachers-get-15-off-draft-beer-2/2026-10-23/
LOCATION:MD
CATEGORIES:Discount
END:VEVENT
BEGIN:VEVENT
DTSTART;TZID=America/New_York:20261030T120000
DTEND;TZID=America/New_York:20261030T220000
DTSTAMP:20260425T082839
CREATED:20250827T213810Z
LAST-MODIFIED:20250827T213812Z
UID:10007860-1793361600-1793397600@monocacybrewing.com
SUMMARY:Teacher's Happy Hour! Teachers get 20% off draft beer!
DESCRIPTION:
URL:https://monocacybrewing.com/event/teachers-happy-hour-teachers-get-15-off-draft-beer-2/2026-10-30/
LOCATION:MD
CATEGORIES:Discount
END:VEVENT
BEGIN:VEVENT
DTSTART;TZID=America/New_York:20261106T120000
DTEND;TZID=America/New_York:20261106T220000
DTSTAMP:20260425T082839
CREATED:20250827T213810Z
LAST-MODIFIED:20250827T213812Z
UID:10007861-1793966400-1794002400@monocacybrewing.com
SUMMARY:Teacher's Happy Hour! Teachers get 20% off draft beer!
DESCRIPTION:
URL:https://monocacybrewing.com/event/teachers-happy-hour-teachers-get-15-off-draft-beer-2/2026-11-06/
LOCATION:MD
CATEGORIES:Discount
END:VEVENT
BEGIN:VEVENT
DTSTART;TZID=America/New_York:20261113T120000
DTEND;TZID=America/New_York:20261113T220000
DTSTAMP:20260425T082839
CREATED:20250827T213810Z
LAST-MODIFIED:20250827T213812Z
UID:10007862-1794571200-1794607200@monocacybrewing.com
SUMMARY:Teacher's Happy Hour! Teachers get 20% off draft beer!
DESCRIPTION:
URL:https://monocacybrewing.com/event/teachers-happy-hour-teachers-get-15-off-draft-beer-2/2026-11-13/
LOCATION:MD
CATEGORIES:Discount
END:VEVENT
BEGIN:VEVENT
DTSTART;TZID=America/New_York:20261120T120000
DTEND;TZID=America/New_York:20261120T220000
DTSTAMP:20260425T082839
CREATED:20250827T213810Z
LAST-MODIFIED:20250827T213812Z
UID:10007863-1795176000-1795212000@monocacybrewing.com
SUMMARY:Teacher's Happy Hour! Teachers get 20% off draft beer!
DESCRIPTION:
URL:https://monocacybrewing.com/event/teachers-happy-hour-teachers-get-15-off-draft-beer-2/2026-11-20/
LOCATION:MD
CATEGORIES:Discount
END:VEVENT
BEGIN:VEVENT
DTSTART;TZID=America/New_York:20261127T120000
DTEND;TZID=America/New_York:20261127T220000
DTSTAMP:20260425T082839
CREATED:20250827T213810Z
LAST-MODIFIED:20250827T213812Z
UID:10007864-1795780800-1795816800@monocacybrewing.com
SUMMARY:Teacher's Happy Hour! Teachers get 20% off draft beer!
DESCRIPTION:
URL:https://monocacybrewing.com/event/teachers-happy-hour-teachers-get-15-off-draft-beer-2/2026-11-27/
LOCATION:MD
CATEGORIES:Discount
END:VEVENT
BEGIN:VEVENT
DTSTART;TZID=America/New_York:20261204T120000
DTEND;TZID=America/New_York:20261204T220000
DTSTAMP:20260425T082839
CREATED:20250827T213810Z
LAST-MODIFIED:20250827T213812Z
UID:10007865-1796385600-1796421600@monocacybrewing.com
SUMMARY:Teacher's Happy Hour! Teachers get 20% off draft beer!
DESCRIPTION:
URL:https://monocacybrewing.com/event/teachers-happy-hour-teachers-get-15-off-draft-beer-2/2026-12-04/
LOCATION:MD
CATEGORIES:Discount
END:VEVENT
BEGIN:VEVENT
DTSTART;TZID=America/New_York:20261211T120000
DTEND;TZID=America/New_York:20261211T220000
DTSTAMP:20260425T082839
CREATED:20250827T213810Z
LAST-MODIFIED:20250827T213812Z
UID:10007866-1796990400-1797026400@monocacybrewing.com
SUMMARY:Teacher's Happy Hour! Teachers get 20% off draft beer!
DESCRIPTION:
URL:https://monocacybrewing.com/event/teachers-happy-hour-teachers-get-15-off-draft-beer-2/2026-12-11/
LOCATION:MD
CATEGORIES:Discount
END:VEVENT
BEGIN:VEVENT
DTSTART;TZID=America/New_York:20261218T120000
DTEND;TZID=America/New_York:20261218T220000
DTSTAMP:20260425T082839
CREATED:20250827T213810Z
LAST-MODIFIED:20250827T213812Z
UID:10007867-1797595200-1797631200@monocacybrewing.com
SUMMARY:Teacher's Happy Hour! Teachers get 20% off draft beer!
DESCRIPTION:
URL:https://monocacybrewing.com/event/teachers-happy-hour-teachers-get-15-off-draft-beer-2/2026-12-18/
LOCATION:MD
CATEGORIES:Discount
END:VEVENT
BEGIN:VEVENT
DTSTART;TZID=America/New_York:20261225T120000
DTEND;TZID=America/New_York:20261225T220000
DTSTAMP:20260425T082839
CREATED:20250827T213810Z
LAST-MODIFIED:20250827T213812Z
UID:10007868-1798200000-1798236000@monocacybrewing.com
SUMMARY:Teacher's Happy Hour! Teachers get 20% off draft beer!
DESCRIPTION:
URL:https://monocacybrewing.com/event/teachers-happy-hour-teachers-get-15-off-draft-beer-2/2026-12-25/
LOCATION:MD
CATEGORIES:Discount
END:VEVENT
BEGIN:VEVENT
DTSTART;TZID=America/New_York:20270101T120000
DTEND;TZID=America/New_York:20270101T220000
DTSTAMP:20260425T082839
CREATED:20250827T213810Z
LAST-MODIFIED:20250827T213812Z
UID:10007869-1798804800-1798840800@monocacybrewing.com
SUMMARY:Teacher's Happy Hour! Teachers get 20% off draft beer!
DESCRIPTION:
URL:https://monocacybrewing.com/event/teachers-happy-hour-teachers-get-15-off-draft-beer-2/2027-01-01/
LOCATION:MD
CATEGORIES:Discount
END:VEVENT
BEGIN:VEVENT
DTSTART;TZID=America/New_York:20270108T120000
DTEND;TZID=America/New_York:20270108T220000
DTSTAMP:20260425T082839
CREATED:20250827T213810Z
LAST-MODIFIED:20250827T213812Z
UID:10007870-1799409600-1799445600@monocacybrewing.com
SUMMARY:Teacher's Happy Hour! Teachers get 20% off draft beer!
DESCRIPTION:
URL:https://monocacybrewing.com/event/teachers-happy-hour-teachers-get-15-off-draft-beer-2/2027-01-08/
LOCATION:MD
CATEGORIES:Discount
END:VEVENT
BEGIN:VEVENT
DTSTART;TZID=America/New_York:20270115T120000
DTEND;TZID=America/New_York:20270115T220000
DTSTAMP:20260425T082839
CREATED:20250827T213810Z
LAST-MODIFIED:20250827T213812Z
UID:10007871-1800014400-1800050400@monocacybrewing.com
SUMMARY:Teacher's Happy Hour! Teachers get 20% off draft beer!
DESCRIPTION:
URL:https://monocacybrewing.com/event/teachers-happy-hour-teachers-get-15-off-draft-beer-2/2027-01-15/
LOCATION:MD
CATEGORIES:Discount
END:VEVENT
BEGIN:VEVENT
DTSTART;TZID=America/New_York:20270122T120000
DTEND;TZID=America/New_York:20270122T220000
DTSTAMP:20260425T082839
CREATED:20250827T213810Z
LAST-MODIFIED:20250827T213812Z
UID:10007872-1800619200-1800655200@monocacybrewing.com
SUMMARY:Teacher's Happy Hour! Teachers get 20% off draft beer!
DESCRIPTION:
URL:https://monocacybrewing.com/event/teachers-happy-hour-teachers-get-15-off-draft-beer-2/2027-01-22/
LOCATION:MD
CATEGORIES:Discount
END:VEVENT
BEGIN:VEVENT
DTSTART;TZID=America/New_York:20270129T120000
DTEND;TZID=America/New_York:20270129T220000
DTSTAMP:20260425T082839
CREATED:20250827T213810Z
LAST-MODIFIED:20250827T213812Z
UID:10007873-1801224000-1801260000@monocacybrewing.com
SUMMARY:Teacher's Happy Hour! Teachers get 20% off draft beer!
DESCRIPTION:
URL:https://monocacybrewing.com/event/teachers-happy-hour-teachers-get-15-off-draft-beer-2/2027-01-29/
LOCATION:MD
CATEGORIES:Discount
END:VEVENT
BEGIN:VEVENT
DTSTART;TZID=America/New_York:20270205T120000
DTEND;TZID=America/New_York:20270205T220000
DTSTAMP:20260425T082839
CREATED:20250827T213810Z
LAST-MODIFIED:20250827T213812Z
UID:10007874-1801828800-1801864800@monocacybrewing.com
SUMMARY:Teacher's Happy Hour! Teachers get 20% off draft beer!
DESCRIPTION:
URL:https://monocacybrewing.com/event/teachers-happy-hour-teachers-get-15-off-draft-beer-2/2027-02-05/
LOCATION:MD
CATEGORIES:Discount
END:VEVENT
END:VCALENDAR