BEGIN:VCALENDAR
VERSION:2.0
PRODID:-//Monocacy Brewing Company - ECPv6.15.17.1//NONSGML v1.0//EN
CALSCALE:GREGORIAN
METHOD:PUBLISH
X-WR-CALNAME:Monocacy Brewing Company
X-ORIGINAL-URL:https://monocacybrewing.com
X-WR-CALDESC:Events for Monocacy Brewing Company
REFRESH-INTERVAL;VALUE=DURATION:PT1H
X-Robots-Tag:noindex
X-PUBLISHED-TTL:PT1H
BEGIN:VTIMEZONE
TZID:America/New_York
BEGIN:DAYLIGHT
TZOFFSETFROM:-0500
TZOFFSETTO:-0400
TZNAME:EDT
DTSTART:20250309T070000
END:DAYLIGHT
BEGIN:STANDARD
TZOFFSETFROM:-0400
TZOFFSETTO:-0500
TZNAME:EST
DTSTART:20251102T060000
END:STANDARD
BEGIN:DAYLIGHT
TZOFFSETFROM:-0500
TZOFFSETTO:-0400
TZNAME:EDT
DTSTART:20260308T070000
END:DAYLIGHT
BEGIN:STANDARD
TZOFFSETFROM:-0400
TZOFFSETTO:-0500
TZNAME:EST
DTSTART:20261101T060000
END:STANDARD
BEGIN:DAYLIGHT
TZOFFSETFROM:-0500
TZOFFSETTO:-0400
TZNAME:EDT
DTSTART:20270314T070000
END:DAYLIGHT
BEGIN:STANDARD
TZOFFSETFROM:-0400
TZOFFSETTO:-0500
TZNAME:EST
DTSTART:20271107T060000
END:STANDARD
END:VTIMEZONE
BEGIN:VEVENT
DTSTART;TZID=America/New_York:20260501T120000
DTEND;TZID=America/New_York:20260501T220000
DTSTAMP:20260424T192357
CREATED:20250827T213810Z
LAST-MODIFIED:20250827T213812Z
UID:10007834-1777636800-1777672800@monocacybrewing.com
SUMMARY:Teacher's Happy Hour! Teachers get 20% off draft beer!
DESCRIPTION:
URL:https://monocacybrewing.com/event/teachers-happy-hour-teachers-get-15-off-draft-beer-2/2026-05-01/
LOCATION:MD
CATEGORIES:Discount
END:VEVENT
BEGIN:VEVENT
DTSTART;TZID=America/New_York:20260508T120000
DTEND;TZID=America/New_York:20260508T220000
DTSTAMP:20260424T192357
CREATED:20250827T213810Z
LAST-MODIFIED:20250827T213812Z
UID:10007835-1778241600-1778277600@monocacybrewing.com
SUMMARY:Teacher's Happy Hour! Teachers get 20% off draft beer!
DESCRIPTION:
URL:https://monocacybrewing.com/event/teachers-happy-hour-teachers-get-15-off-draft-beer-2/2026-05-08/
LOCATION:MD
CATEGORIES:Discount
END:VEVENT
BEGIN:VEVENT
DTSTART;TZID=America/New_York:20260515T120000
DTEND;TZID=America/New_York:20260515T220000
DTSTAMP:20260424T192357
CREATED:20250827T213810Z
LAST-MODIFIED:20250827T213812Z
UID:10007836-1778846400-1778882400@monocacybrewing.com
SUMMARY:Teacher's Happy Hour! Teachers get 20% off draft beer!
DESCRIPTION:
URL:https://monocacybrewing.com/event/teachers-happy-hour-teachers-get-15-off-draft-beer-2/2026-05-15/
LOCATION:MD
CATEGORIES:Discount
END:VEVENT
BEGIN:VEVENT
DTSTART;TZID=America/New_York:20260522T120000
DTEND;TZID=America/New_York:20260522T220000
DTSTAMP:20260424T192357
CREATED:20250827T213810Z
LAST-MODIFIED:20250827T213812Z
UID:10007837-1779451200-1779487200@monocacybrewing.com
SUMMARY:Teacher's Happy Hour! Teachers get 20% off draft beer!
DESCRIPTION:
URL:https://monocacybrewing.com/event/teachers-happy-hour-teachers-get-15-off-draft-beer-2/2026-05-22/
LOCATION:MD
CATEGORIES:Discount
END:VEVENT
BEGIN:VEVENT
DTSTART;TZID=America/New_York:20260529T120000
DTEND;TZID=America/New_York:20260529T220000
DTSTAMP:20260424T192357
CREATED:20250827T213810Z
LAST-MODIFIED:20250827T213812Z
UID:10007838-1780056000-1780092000@monocacybrewing.com
SUMMARY:Teacher's Happy Hour! Teachers get 20% off draft beer!
DESCRIPTION:
URL:https://monocacybrewing.com/event/teachers-happy-hour-teachers-get-15-off-draft-beer-2/2026-05-29/
LOCATION:MD
CATEGORIES:Discount
END:VEVENT
END:VCALENDAR