BEGIN:VCALENDAR
VERSION:2.0
PRODID:-//Monocacy Brewing Company - ECPv6.15.17.1//NONSGML v1.0//EN
CALSCALE:GREGORIAN
METHOD:PUBLISH
X-ORIGINAL-URL:https://monocacybrewing.com
X-WR-CALDESC:Events for Monocacy Brewing Company
REFRESH-INTERVAL;VALUE=DURATION:PT1H
X-Robots-Tag:noindex
X-PUBLISHED-TTL:PT1H
BEGIN:VTIMEZONE
TZID:America/New_York
BEGIN:DAYLIGHT
TZOFFSETFROM:-0500
TZOFFSETTO:-0400
TZNAME:EDT
DTSTART:20230312T070000
END:DAYLIGHT
BEGIN:STANDARD
TZOFFSETFROM:-0400
TZOFFSETTO:-0500
TZNAME:EST
DTSTART:20231105T060000
END:STANDARD
BEGIN:DAYLIGHT
TZOFFSETFROM:-0500
TZOFFSETTO:-0400
TZNAME:EDT
DTSTART:20240310T070000
END:DAYLIGHT
BEGIN:STANDARD
TZOFFSETFROM:-0400
TZOFFSETTO:-0500
TZNAME:EST
DTSTART:20241103T060000
END:STANDARD
BEGIN:DAYLIGHT
TZOFFSETFROM:-0500
TZOFFSETTO:-0400
TZNAME:EDT
DTSTART:20250309T070000
END:DAYLIGHT
BEGIN:STANDARD
TZOFFSETFROM:-0400
TZOFFSETTO:-0500
TZNAME:EST
DTSTART:20251102T060000
END:STANDARD
END:VTIMEZONE
BEGIN:VEVENT
DTSTART;VALUE=DATE:20241019
DTEND;VALUE=DATE:20241020
DTSTAMP:20260422T052944
CREATED:20240923T194409Z
LAST-MODIFIED:20240923T194409Z
UID:10004712-1729296000-1729382399@monocacybrewing.com
SUMMARY:Monocacy Fall Fest!
DESCRIPTION:
URL:https://monocacybrewing.com/event/monocacy-fall-fest/
LOCATION:MD
END:VEVENT
BEGIN:VEVENT
DTSTART;TZID=America/New_York:20241019T120000
DTEND;TZID=America/New_York:20241019T200000
DTSTAMP:20260422T052944
CREATED:20241001T200457Z
LAST-MODIFIED:20241001T200457Z
UID:10004719-1729339200-1729368000@monocacybrewing.com
SUMMARY:Alley Wagon Food truck
DESCRIPTION:
URL:https://monocacybrewing.com/event/alley-wagon-food-truck/
LOCATION:MD
END:VEVENT
BEGIN:VEVENT
DTSTART;TZID=America/New_York:20241019T130000
DTEND;TZID=America/New_York:20241019T160000
DTSTAMP:20260422T052944
CREATED:20240923T194300Z
LAST-MODIFIED:20240923T194300Z
UID:10004710-1729342800-1729353600@monocacybrewing.com
SUMMARY:Live Music: Corry Cotter
DESCRIPTION:
URL:https://monocacybrewing.com/event/live-music-corry-cotter/
LOCATION:MD
END:VEVENT
BEGIN:VEVENT
DTSTART;TZID=America/New_York:20241019T170000
DTEND;TZID=America/New_York:20241019T200000
DTSTAMP:20260422T052944
CREATED:20240923T194346Z
LAST-MODIFIED:20240923T194346Z
UID:10004711-1729357200-1729368000@monocacybrewing.com
SUMMARY:Live Music: The Flea Bops
DESCRIPTION:
URL:https://monocacybrewing.com/event/live-music-the-flea-bops/
LOCATION:MD
END:VEVENT
END:VCALENDAR