BEGIN:VCALENDAR
VERSION:2.0
PRODID:-//Monocacy Brewing Company - ECPv6.15.17.1//NONSGML v1.0//EN
CALSCALE:GREGORIAN
METHOD:PUBLISH
X-WR-CALNAME:Monocacy Brewing Company
X-ORIGINAL-URL:https://monocacybrewing.com
X-WR-CALDESC:Events for Monocacy Brewing Company
REFRESH-INTERVAL;VALUE=DURATION:PT1H
X-Robots-Tag:noindex
X-PUBLISHED-TTL:PT1H
BEGIN:VTIMEZONE
TZID:America/New_York
BEGIN:DAYLIGHT
TZOFFSETFROM:-0500
TZOFFSETTO:-0400
TZNAME:EDT
DTSTART:20230312T070000
END:DAYLIGHT
BEGIN:STANDARD
TZOFFSETFROM:-0400
TZOFFSETTO:-0500
TZNAME:EST
DTSTART:20231105T060000
END:STANDARD
BEGIN:DAYLIGHT
TZOFFSETFROM:-0500
TZOFFSETTO:-0400
TZNAME:EDT
DTSTART:20240310T070000
END:DAYLIGHT
BEGIN:STANDARD
TZOFFSETFROM:-0400
TZOFFSETTO:-0500
TZNAME:EST
DTSTART:20241103T060000
END:STANDARD
BEGIN:DAYLIGHT
TZOFFSETFROM:-0500
TZOFFSETTO:-0400
TZNAME:EDT
DTSTART:20250309T070000
END:DAYLIGHT
BEGIN:STANDARD
TZOFFSETFROM:-0400
TZOFFSETTO:-0500
TZNAME:EST
DTSTART:20251102T060000
END:STANDARD
END:VTIMEZONE
BEGIN:VEVENT
DTSTART;TZID=America/New_York:20240721T104500
DTEND;TZID=America/New_York:20240721T114500
DTSTAMP:20260422T065158
CREATED:20240109T212337Z
LAST-MODIFIED:20240201T211945Z
UID:10003206-1721558700-1721562300@monocacybrewing.com
SUMMARY:Yoga then Beer with Yogamour!
DESCRIPTION:Contact the amazing team at Yogamour to save your spot!
URL:https://monocacybrewing.com/event/yoga-then-beer-with-yogamour-6/2024-07-21/
LOCATION:MD
END:VEVENT
BEGIN:VEVENT
DTSTART;TZID=America/New_York:20240721T120000
DTEND;TZID=America/New_York:20240721T200000
DTSTAMP:20260422T065158
CREATED:20240708T140322Z
LAST-MODIFIED:20240708T140322Z
UID:10004088-1721563200-1721592000@monocacybrewing.com
SUMMARY:BBQ & Tech Food Truck!
DESCRIPTION:
URL:https://monocacybrewing.com/event/bbq-tech-food-truck-5/
LOCATION:MD
END:VEVENT
BEGIN:VEVENT
DTSTART;TZID=America/New_York:20240721T150000
DTEND;TZID=America/New_York:20240721T180000
DTSTAMP:20260422T065158
CREATED:20240705T150752Z
LAST-MODIFIED:20240705T150752Z
UID:10004071-1721574000-1721584800@monocacybrewing.com
SUMMARY:Live Music: 5.5 Men
DESCRIPTION:
URL:https://monocacybrewing.com/event/live-music-5-5-men-8/
LOCATION:MD
END:VEVENT
END:VCALENDAR