BEGIN:VCALENDAR
VERSION:2.0
PRODID:-//Monocacy Brewing Company - ECPv6.15.17.1//NONSGML v1.0//EN
CALSCALE:GREGORIAN
METHOD:PUBLISH
X-ORIGINAL-URL:https://monocacybrewing.com
X-WR-CALDESC:Events for Monocacy Brewing Company
REFRESH-INTERVAL;VALUE=DURATION:PT1H
X-Robots-Tag:noindex
X-PUBLISHED-TTL:PT1H
BEGIN:VTIMEZONE
TZID:America/New_York
BEGIN:DAYLIGHT
TZOFFSETFROM:-0500
TZOFFSETTO:-0400
TZNAME:EDT
DTSTART:20230312T070000
END:DAYLIGHT
BEGIN:STANDARD
TZOFFSETFROM:-0400
TZOFFSETTO:-0500
TZNAME:EST
DTSTART:20231105T060000
END:STANDARD
BEGIN:DAYLIGHT
TZOFFSETFROM:-0500
TZOFFSETTO:-0400
TZNAME:EDT
DTSTART:20240310T070000
END:DAYLIGHT
BEGIN:STANDARD
TZOFFSETFROM:-0400
TZOFFSETTO:-0500
TZNAME:EST
DTSTART:20241103T060000
END:STANDARD
BEGIN:DAYLIGHT
TZOFFSETFROM:-0500
TZOFFSETTO:-0400
TZNAME:EDT
DTSTART:20250309T070000
END:DAYLIGHT
BEGIN:STANDARD
TZOFFSETFROM:-0400
TZOFFSETTO:-0500
TZNAME:EST
DTSTART:20251102T060000
END:STANDARD
END:VTIMEZONE
BEGIN:VEVENT
DTSTART;TZID=America/New_York:20240720T120000
DTEND;TZID=America/New_York:20240720T200000
DTSTAMP:20260420T090304
CREATED:20240705T152124Z
LAST-MODIFIED:20240705T152124Z
UID:10004075-1721476800-1721505600@monocacybrewing.com
SUMMARY:Pita King: Seafood Specials!
DESCRIPTION:
URL:https://monocacybrewing.com/event/pita-king-seafood-specials/
LOCATION:MD
END:VEVENT
BEGIN:VEVENT
DTSTART;TZID=America/New_York:20240720T170000
DTEND;TZID=America/New_York:20240720T200000
DTSTAMP:20260420T090304
CREATED:20240705T150614Z
LAST-MODIFIED:20240716T140258Z
UID:10004070-1721494800-1721505600@monocacybrewing.com
SUMMARY:Live Music: The Bodine Brothers
DESCRIPTION:
URL:https://monocacybrewing.com/event/fridays-at-the-fountain-live-music-the-bodine-brothers/
LOCATION:MD
END:VEVENT
END:VCALENDAR