BEGIN:VCALENDAR
VERSION:2.0
PRODID:-//Monocacy Brewing Company - ECPv6.15.17.1//NONSGML v1.0//EN
CALSCALE:GREGORIAN
METHOD:PUBLISH
X-ORIGINAL-URL:https://monocacybrewing.com
X-WR-CALDESC:Events for Monocacy Brewing Company
REFRESH-INTERVAL;VALUE=DURATION:PT1H
X-Robots-Tag:noindex
X-PUBLISHED-TTL:PT1H
BEGIN:VTIMEZONE
TZID:America/New_York
BEGIN:DAYLIGHT
TZOFFSETFROM:-0500
TZOFFSETTO:-0400
TZNAME:EDT
DTSTART:20230312T070000
END:DAYLIGHT
BEGIN:STANDARD
TZOFFSETFROM:-0400
TZOFFSETTO:-0500
TZNAME:EST
DTSTART:20231105T060000
END:STANDARD
BEGIN:DAYLIGHT
TZOFFSETFROM:-0500
TZOFFSETTO:-0400
TZNAME:EDT
DTSTART:20240310T070000
END:DAYLIGHT
BEGIN:STANDARD
TZOFFSETFROM:-0400
TZOFFSETTO:-0500
TZNAME:EST
DTSTART:20241103T060000
END:STANDARD
BEGIN:DAYLIGHT
TZOFFSETFROM:-0500
TZOFFSETTO:-0400
TZNAME:EDT
DTSTART:20250309T070000
END:DAYLIGHT
BEGIN:STANDARD
TZOFFSETFROM:-0400
TZOFFSETTO:-0500
TZNAME:EST
DTSTART:20251102T060000
END:STANDARD
END:VTIMEZONE
BEGIN:VEVENT
DTSTART;TZID=America/New_York:20240630T104500
DTEND;TZID=America/New_York:20240630T114500
DTSTAMP:20260420T055457
CREATED:20240109T212337Z
LAST-MODIFIED:20240201T211945Z
UID:10003203-1719744300-1719747900@monocacybrewing.com
SUMMARY:Yoga then Beer with Yogamour!
DESCRIPTION:Contact the amazing team at Yogamour to save your spot!
URL:https://monocacybrewing.com/event/yoga-then-beer-with-yogamour-6/2024-06-30/
LOCATION:MD
END:VEVENT
BEGIN:VEVENT
DTSTART;TZID=America/New_York:20240630T120000
DTEND;TZID=America/New_York:20240630T190000
DTSTAMP:20260420T055457
CREATED:20240528T175923Z
LAST-MODIFIED:20240528T175923Z
UID:10004048-1719748800-1719774000@monocacybrewing.com
SUMMARY:Fifty-Fifty Burger Food Truck
DESCRIPTION:
URL:https://monocacybrewing.com/event/fifty-fifty-burger-food-truck/
LOCATION:MD
END:VEVENT
END:VCALENDAR