BEGIN:VCALENDAR
VERSION:2.0
PRODID:-//Monocacy Brewing Company - ECPv6.15.17.1//NONSGML v1.0//EN
CALSCALE:GREGORIAN
METHOD:PUBLISH
X-ORIGINAL-URL:https://monocacybrewing.com
X-WR-CALDESC:Events for Monocacy Brewing Company
REFRESH-INTERVAL;VALUE=DURATION:PT1H
X-Robots-Tag:noindex
X-PUBLISHED-TTL:PT1H
BEGIN:VTIMEZONE
TZID:America/New_York
BEGIN:DAYLIGHT
TZOFFSETFROM:-0500
TZOFFSETTO:-0400
TZNAME:EDT
DTSTART:20230312T070000
END:DAYLIGHT
BEGIN:STANDARD
TZOFFSETFROM:-0400
TZOFFSETTO:-0500
TZNAME:EST
DTSTART:20231105T060000
END:STANDARD
BEGIN:DAYLIGHT
TZOFFSETFROM:-0500
TZOFFSETTO:-0400
TZNAME:EDT
DTSTART:20240310T070000
END:DAYLIGHT
BEGIN:STANDARD
TZOFFSETFROM:-0400
TZOFFSETTO:-0500
TZNAME:EST
DTSTART:20241103T060000
END:STANDARD
BEGIN:DAYLIGHT
TZOFFSETFROM:-0500
TZOFFSETTO:-0400
TZNAME:EDT
DTSTART:20250309T070000
END:DAYLIGHT
BEGIN:STANDARD
TZOFFSETFROM:-0400
TZOFFSETTO:-0500
TZNAME:EST
DTSTART:20251102T060000
END:STANDARD
END:VTIMEZONE
BEGIN:VEVENT
DTSTART;TZID=America/New_York:20240614T150000
DTEND;TZID=America/New_York:20240614T200000
DTSTAMP:20260420T055455
CREATED:20240610T163638Z
LAST-MODIFIED:20240610T163638Z
UID:10004060-1718377200-1718395200@monocacybrewing.com
SUMMARY:Food truck:   Taqueria Doña Reyna
DESCRIPTION:
URL:https://monocacybrewing.com/event/food-truck-taqueria-dona-reyna/
LOCATION:MD
END:VEVENT
BEGIN:VEVENT
DTSTART;TZID=America/New_York:20240614T170000
DTEND;TZID=America/New_York:20240614T200000
DTSTAMP:20260420T055455
CREATED:20240604T134313Z
LAST-MODIFIED:20240604T135044Z
UID:10004049-1718384400-1718395200@monocacybrewing.com
SUMMARY:FRIDAYS AT THE FOUNTAIN LIVE MUSIC: ILYAIMY
DESCRIPTION:
URL:https://monocacybrewing.com/event/fridays-at-the-fountain-live-music-ilyaimy-2/
LOCATION:MD
END:VEVENT
END:VCALENDAR