BEGIN:VCALENDAR
VERSION:2.0
PRODID:-//Monocacy Brewing Company - ECPv6.15.17.1//NONSGML v1.0//EN
CALSCALE:GREGORIAN
METHOD:PUBLISH
X-ORIGINAL-URL:https://monocacybrewing.com
X-WR-CALDESC:Events for Monocacy Brewing Company
REFRESH-INTERVAL;VALUE=DURATION:PT1H
X-Robots-Tag:noindex
X-PUBLISHED-TTL:PT1H
BEGIN:VTIMEZONE
TZID:America/New_York
BEGIN:DAYLIGHT
TZOFFSETFROM:-0500
TZOFFSETTO:-0400
TZNAME:EDT
DTSTART:20230312T070000
END:DAYLIGHT
BEGIN:STANDARD
TZOFFSETFROM:-0400
TZOFFSETTO:-0500
TZNAME:EST
DTSTART:20231105T060000
END:STANDARD
BEGIN:DAYLIGHT
TZOFFSETFROM:-0500
TZOFFSETTO:-0400
TZNAME:EDT
DTSTART:20240310T070000
END:DAYLIGHT
BEGIN:STANDARD
TZOFFSETFROM:-0400
TZOFFSETTO:-0500
TZNAME:EST
DTSTART:20241103T060000
END:STANDARD
BEGIN:DAYLIGHT
TZOFFSETFROM:-0500
TZOFFSETTO:-0400
TZNAME:EDT
DTSTART:20250309T070000
END:DAYLIGHT
BEGIN:STANDARD
TZOFFSETFROM:-0400
TZOFFSETTO:-0500
TZNAME:EST
DTSTART:20251102T060000
END:STANDARD
END:VTIMEZONE
BEGIN:VEVENT
DTSTART;TZID=America/New_York:20240601T150000
DTEND;TZID=America/New_York:20240601T180000
DTSTAMP:20260420T055457
CREATED:20240528T173446Z
LAST-MODIFIED:20240528T173446Z
UID:10004035-1717254000-1717264800@monocacybrewing.com
SUMMARY:Live music: Cory Cotter
DESCRIPTION:
URL:https://monocacybrewing.com/event/live-music-cory-cotter-9/
LOCATION:MD
END:VEVENT
BEGIN:VEVENT
DTSTART;TZID=America/New_York:20240601T160000
DTEND;TZID=America/New_York:20240601T200000
DTSTAMP:20260420T055457
CREATED:20240528T144224Z
LAST-MODIFIED:20240528T173233Z
UID:10004034-1717257600-1717272000@monocacybrewing.com
SUMMARY:Food truck: Cocina el Jefe
DESCRIPTION:
URL:https://monocacybrewing.com/event/food-truck-cocina-el-jefe-5/
LOCATION:MD
END:VEVENT
END:VCALENDAR