BEGIN:VCALENDAR
VERSION:2.0
PRODID:-//Monocacy Brewing Company - ECPv6.15.17.1//NONSGML v1.0//EN
CALSCALE:GREGORIAN
METHOD:PUBLISH
X-ORIGINAL-URL:https://monocacybrewing.com
X-WR-CALDESC:Events for Monocacy Brewing Company
REFRESH-INTERVAL;VALUE=DURATION:PT1H
X-Robots-Tag:noindex
X-PUBLISHED-TTL:PT1H
BEGIN:VTIMEZONE
TZID:America/New_York
BEGIN:DAYLIGHT
TZOFFSETFROM:-0500
TZOFFSETTO:-0400
TZNAME:EDT
DTSTART:20220313T070000
END:DAYLIGHT
BEGIN:STANDARD
TZOFFSETFROM:-0400
TZOFFSETTO:-0500
TZNAME:EST
DTSTART:20221106T060000
END:STANDARD
BEGIN:DAYLIGHT
TZOFFSETFROM:-0500
TZOFFSETTO:-0400
TZNAME:EDT
DTSTART:20230312T070000
END:DAYLIGHT
BEGIN:STANDARD
TZOFFSETFROM:-0400
TZOFFSETTO:-0500
TZNAME:EST
DTSTART:20231105T060000
END:STANDARD
BEGIN:DAYLIGHT
TZOFFSETFROM:-0500
TZOFFSETTO:-0400
TZNAME:EDT
DTSTART:20240310T070000
END:DAYLIGHT
BEGIN:STANDARD
TZOFFSETFROM:-0400
TZOFFSETTO:-0500
TZNAME:EST
DTSTART:20241103T060000
END:STANDARD
END:VTIMEZONE
BEGIN:VEVENT
DTSTART;TZID=America/New_York:20231115T160000
DTEND;TZID=America/New_York:20231115T200000
DTSTAMP:20260420T182639
CREATED:20231113T162423Z
LAST-MODIFIED:20231113T162428Z
UID:10002071-1700064000-1700078400@monocacybrewing.com
SUMMARY:Perucho's Street Cuisine Food truck!
DESCRIPTION:
URL:https://monocacybrewing.com/event/peruchos-street-cuisine-food-truck/
LOCATION:MD
END:VEVENT
BEGIN:VEVENT
DTSTART;TZID=America/New_York:20231115T190000
DTEND;TZID=America/New_York:20231115T210000
DTSTAMP:20260420T182639
CREATED:20231027T020947Z
LAST-MODIFIED:20231027T020947Z
UID:10002051-1700074800-1700082000@monocacybrewing.com
SUMMARY:Trivia 7-9
DESCRIPTION:
URL:https://monocacybrewing.com/event/trivia-7-9-3/
LOCATION:MD
END:VEVENT
END:VCALENDAR