BEGIN:VCALENDAR
VERSION:2.0
PRODID:-//Monocacy Brewing Company - ECPv6.15.17.1//NONSGML v1.0//EN
CALSCALE:GREGORIAN
METHOD:PUBLISH
X-WR-CALNAME:Monocacy Brewing Company
X-ORIGINAL-URL:https://monocacybrewing.com
X-WR-CALDESC:Events for Monocacy Brewing Company
REFRESH-INTERVAL;VALUE=DURATION:PT1H
X-Robots-Tag:noindex
X-PUBLISHED-TTL:PT1H
BEGIN:VTIMEZONE
TZID:America/New_York
BEGIN:DAYLIGHT
TZOFFSETFROM:-0500
TZOFFSETTO:-0400
TZNAME:EDT
DTSTART:20220313T070000
END:DAYLIGHT
BEGIN:STANDARD
TZOFFSETFROM:-0400
TZOFFSETTO:-0500
TZNAME:EST
DTSTART:20221106T060000
END:STANDARD
BEGIN:DAYLIGHT
TZOFFSETFROM:-0500
TZOFFSETTO:-0400
TZNAME:EDT
DTSTART:20230312T070000
END:DAYLIGHT
BEGIN:STANDARD
TZOFFSETFROM:-0400
TZOFFSETTO:-0500
TZNAME:EST
DTSTART:20231105T060000
END:STANDARD
BEGIN:DAYLIGHT
TZOFFSETFROM:-0500
TZOFFSETTO:-0400
TZNAME:EDT
DTSTART:20240310T070000
END:DAYLIGHT
BEGIN:STANDARD
TZOFFSETFROM:-0400
TZOFFSETTO:-0500
TZNAME:EST
DTSTART:20241103T060000
END:STANDARD
END:VTIMEZONE
BEGIN:VEVENT
DTSTART;VALUE=DATE:20230930
DTEND;VALUE=DATE:20231001
DTSTAMP:20260420T182415
CREATED:20230829T174047Z
LAST-MODIFIED:20230927T163231Z
UID:10001977-1696032000-1696118399@monocacybrewing.com
SUMMARY:FOOD TRUCK: TBA
DESCRIPTION:
URL:https://monocacybrewing.com/event/food-truck-firestones-3/
LOCATION:MD
END:VEVENT
BEGIN:VEVENT
DTSTART;TZID=America/New_York:20230930T120000
DTEND;TZID=America/New_York:20230930T233000
DTSTAMP:20260420T182415
CREATED:20230826T031737Z
LAST-MODIFIED:20230826T031737Z
UID:10001956-1696075200-1696116600@monocacybrewing.com
SUMMARY:Frederick Oktoberfest
DESCRIPTION:
URL:https://monocacybrewing.com/event/frederick-oktoberfest-2/
LOCATION:MD
END:VEVENT
BEGIN:VEVENT
DTSTART;TZID=America/New_York:20230930T123000
DTEND;TZID=America/New_York:20230930T170000
DTSTAMP:20260420T182415
CREATED:20230829T173951Z
LAST-MODIFIED:20230831T123332Z
UID:10001975-1696077000-1696093200@monocacybrewing.com
SUMMARY:5.5 Men
DESCRIPTION:
URL:https://monocacybrewing.com/event/5-5-men/
LOCATION:MD
CATEGORIES:Live Music
END:VEVENT
BEGIN:VEVENT
DTSTART;TZID=America/New_York:20230930T170000
DTEND;TZID=America/New_York:20230930T200000
DTSTAMP:20260420T182415
CREATED:20230829T174024Z
LAST-MODIFIED:20230927T163127Z
UID:10001976-1696093200-1696104000@monocacybrewing.com
SUMMARY:Red's Motel
DESCRIPTION:
URL:https://monocacybrewing.com/event/noah-hawes/
LOCATION:MD
CATEGORIES:Live Music
END:VEVENT
END:VCALENDAR