BEGIN:VCALENDAR
VERSION:2.0
PRODID:-//Monocacy Brewing Company - ECPv6.15.17.1//NONSGML v1.0//EN
CALSCALE:GREGORIAN
METHOD:PUBLISH
X-WR-CALNAME:Monocacy Brewing Company
X-ORIGINAL-URL:https://monocacybrewing.com
X-WR-CALDESC:Events for Monocacy Brewing Company
REFRESH-INTERVAL;VALUE=DURATION:PT1H
X-Robots-Tag:noindex
X-PUBLISHED-TTL:PT1H
BEGIN:VTIMEZONE
TZID:America/New_York
BEGIN:DAYLIGHT
TZOFFSETFROM:-0500
TZOFFSETTO:-0400
TZNAME:EDT
DTSTART:20220313T070000
END:DAYLIGHT
BEGIN:STANDARD
TZOFFSETFROM:-0400
TZOFFSETTO:-0500
TZNAME:EST
DTSTART:20221106T060000
END:STANDARD
BEGIN:DAYLIGHT
TZOFFSETFROM:-0500
TZOFFSETTO:-0400
TZNAME:EDT
DTSTART:20230312T070000
END:DAYLIGHT
BEGIN:STANDARD
TZOFFSETFROM:-0400
TZOFFSETTO:-0500
TZNAME:EST
DTSTART:20231105T060000
END:STANDARD
BEGIN:DAYLIGHT
TZOFFSETFROM:-0500
TZOFFSETTO:-0400
TZNAME:EDT
DTSTART:20240310T070000
END:DAYLIGHT
BEGIN:STANDARD
TZOFFSETFROM:-0400
TZOFFSETTO:-0500
TZNAME:EST
DTSTART:20241103T060000
END:STANDARD
END:VTIMEZONE
BEGIN:VEVENT
DTSTART;VALUE=DATE:20230916
DTEND;VALUE=DATE:20230917
DTSTAMP:20260422T092616
CREATED:20230917T022143Z
LAST-MODIFIED:20230917T022143Z
UID:10002019-1694822400-1694908799@monocacybrewing.com
SUMMARY:Cookin' with Greece
DESCRIPTION:
URL:https://monocacybrewing.com/event/cookin-with-greece/
LOCATION:MD
END:VEVENT
BEGIN:VEVENT
DTSTART;TZID=America/New_York:20230916T123000
DTEND;TZID=America/New_York:20230916T170000
DTSTAMP:20260422T092616
CREATED:20230826T032317Z
LAST-MODIFIED:20230826T032317Z
UID:10001962-1694867400-1694883600@monocacybrewing.com
SUMMARY:Cory Cotter
DESCRIPTION:
URL:https://monocacybrewing.com/event/cory-cotter-2/
LOCATION:MD
END:VEVENT
BEGIN:VEVENT
DTSTART;TZID=America/New_York:20230916T170000
DTEND;TZID=America/New_York:20230916T210000
DTSTAMP:20260422T092616
CREATED:20230826T032405Z
LAST-MODIFIED:20230826T032405Z
UID:10001963-1694883600-1694898000@monocacybrewing.com
SUMMARY:Chevre
DESCRIPTION:
URL:https://monocacybrewing.com/event/chevre/
LOCATION:MD
END:VEVENT
END:VCALENDAR