BEGIN:VCALENDAR
VERSION:2.0
PRODID:-//Monocacy Brewing Company - ECPv6.15.17.1//NONSGML v1.0//EN
CALSCALE:GREGORIAN
METHOD:PUBLISH
X-WR-CALNAME:Monocacy Brewing Company
X-ORIGINAL-URL:https://monocacybrewing.com
X-WR-CALDESC:Events for Monocacy Brewing Company
REFRESH-INTERVAL;VALUE=DURATION:PT1H
X-Robots-Tag:noindex
X-PUBLISHED-TTL:PT1H
BEGIN:VTIMEZONE
TZID:America/New_York
BEGIN:DAYLIGHT
TZOFFSETFROM:-0500
TZOFFSETTO:-0400
TZNAME:EDT
DTSTART:20220313T070000
END:DAYLIGHT
BEGIN:STANDARD
TZOFFSETFROM:-0400
TZOFFSETTO:-0500
TZNAME:EST
DTSTART:20221106T060000
END:STANDARD
BEGIN:DAYLIGHT
TZOFFSETFROM:-0500
TZOFFSETTO:-0400
TZNAME:EDT
DTSTART:20230312T070000
END:DAYLIGHT
BEGIN:STANDARD
TZOFFSETFROM:-0400
TZOFFSETTO:-0500
TZNAME:EST
DTSTART:20231105T060000
END:STANDARD
BEGIN:DAYLIGHT
TZOFFSETFROM:-0500
TZOFFSETTO:-0400
TZNAME:EDT
DTSTART:20240310T070000
END:DAYLIGHT
BEGIN:STANDARD
TZOFFSETFROM:-0400
TZOFFSETTO:-0500
TZNAME:EST
DTSTART:20241103T060000
END:STANDARD
END:VTIMEZONE
BEGIN:VEVENT
DTSTART;TZID=America/New_York:20230625T120000
DTEND;TZID=America/New_York:20230625T170000
DTSTAMP:20260422T110136
CREATED:20230525T224951Z
LAST-MODIFIED:20230525T224951Z
UID:10001810-1687694400-1687712400@monocacybrewing.com
SUMMARY:Food Truck: Jimmy's Seafood
DESCRIPTION:
URL:https://monocacybrewing.com/event/food-truck-jimmys-seafood-16/
LOCATION:MD
END:VEVENT
BEGIN:VEVENT
DTSTART;TZID=America/New_York:20230625T140000
DTEND;TZID=America/New_York:20230625T170000
DTSTAMP:20260422T110136
CREATED:20230525T224839Z
LAST-MODIFIED:20230621T201411Z
UID:10001808-1687701600-1687712400@monocacybrewing.com
SUMMARY:Cornhole Tournament
DESCRIPTION:We are partnering up with Frederick City Parks and Rec to host a cornhole tournament next month! Click here to register! $10 per team\, pre-registration required\, must be 21+ to participate!
URL:https://monocacybrewing.com/event/cornhole-tournament/
LOCATION:MD
ATTACH;FMTTYPE=image/png:https://monocacybrewing.com/wp-content/uploads/2023/05/cornhole-tournament-fb-1.png
END:VEVENT
BEGIN:VEVENT
DTSTART;TZID=America/New_York:20230625T140000
DTEND;TZID=America/New_York:20230625T170000
DTSTAMP:20260422T110136
CREATED:20230525T224908Z
LAST-MODIFIED:20230525T224908Z
UID:10001809-1687701600-1687712400@monocacybrewing.com
SUMMARY:Live Music: Freddie Long
DESCRIPTION:
URL:https://monocacybrewing.com/event/live-music-freddie-long-15/
LOCATION:MD
END:VEVENT
END:VCALENDAR