BEGIN:VCALENDAR
VERSION:2.0
PRODID:-//Monocacy Brewing Company - ECPv6.15.17.1//NONSGML v1.0//EN
CALSCALE:GREGORIAN
METHOD:PUBLISH
X-ORIGINAL-URL:https://monocacybrewing.com
X-WR-CALDESC:Events for Monocacy Brewing Company
REFRESH-INTERVAL;VALUE=DURATION:PT1H
X-Robots-Tag:noindex
X-PUBLISHED-TTL:PT1H
BEGIN:VTIMEZONE
TZID:America/New_York
BEGIN:DAYLIGHT
TZOFFSETFROM:-0500
TZOFFSETTO:-0400
TZNAME:EDT
DTSTART:20220313T070000
END:DAYLIGHT
BEGIN:STANDARD
TZOFFSETFROM:-0400
TZOFFSETTO:-0500
TZNAME:EST
DTSTART:20221106T060000
END:STANDARD
BEGIN:DAYLIGHT
TZOFFSETFROM:-0500
TZOFFSETTO:-0400
TZNAME:EDT
DTSTART:20230312T070000
END:DAYLIGHT
BEGIN:STANDARD
TZOFFSETFROM:-0400
TZOFFSETTO:-0500
TZNAME:EST
DTSTART:20231105T060000
END:STANDARD
BEGIN:DAYLIGHT
TZOFFSETFROM:-0500
TZOFFSETTO:-0400
TZNAME:EDT
DTSTART:20240310T070000
END:DAYLIGHT
BEGIN:STANDARD
TZOFFSETFROM:-0400
TZOFFSETTO:-0500
TZNAME:EST
DTSTART:20241103T060000
END:STANDARD
END:VTIMEZONE
BEGIN:VEVENT
DTSTART;VALUE=DATE:20230624
DTEND;VALUE=DATE:20230625
DTSTAMP:20260422T093137
CREATED:20230525T223901Z
LAST-MODIFIED:20230525T224107Z
UID:10001804-1687564800-1687651199@monocacybrewing.com
SUMMARY:Downtown: PRIDE
DESCRIPTION:Come find us downtown at Frederick Pride!! \nWe’ll be pouring all your favorites all day long\, so be sure to stop by and say hi! \n  \nBe sure to drop by the Tasting Room for a nightcap on your way home\, we’ll be pouring until 9pm.
URL:https://monocacybrewing.com/event/downtown-pride/
LOCATION:MD
END:VEVENT
BEGIN:VEVENT
DTSTART;TZID=America/New_York:20230624T123000
DTEND;TZID=America/New_York:20230624T153000
DTSTAMP:20260422T093137
CREATED:20230525T223929Z
LAST-MODIFIED:20230525T223929Z
UID:10001805-1687609800-1687620600@monocacybrewing.com
SUMMARY:Live Music: Brian Harris
DESCRIPTION:
URL:https://monocacybrewing.com/event/live-music-brian-harris/
LOCATION:MD
END:VEVENT
BEGIN:VEVENT
DTSTART;TZID=America/New_York:20230624T130000
DTEND;TZID=America/New_York:20230624T200000
DTSTAMP:20260422T093137
CREATED:20230525T224214Z
LAST-MODIFIED:20230525T224214Z
UID:10001807-1687611600-1687636800@monocacybrewing.com
SUMMARY:Food Truck: Sabor De Cuba
DESCRIPTION:
URL:https://monocacybrewing.com/event/food-truck-sabor-de-cuba-3/
LOCATION:MD
END:VEVENT
BEGIN:VEVENT
DTSTART;TZID=America/New_York:20230624T170000
DTEND;TZID=America/New_York:20230624T200000
DTSTAMP:20260422T093137
CREATED:20230525T224139Z
LAST-MODIFIED:20230525T224139Z
UID:10001806-1687626000-1687636800@monocacybrewing.com
SUMMARY:Live Music: Cory Cotter
DESCRIPTION:
URL:https://monocacybrewing.com/event/live-music-cory-cotter-6/
LOCATION:MD
END:VEVENT
END:VCALENDAR