BEGIN:VCALENDAR
VERSION:2.0
PRODID:-//Monocacy Brewing Company - ECPv6.15.17.1//NONSGML v1.0//EN
CALSCALE:GREGORIAN
METHOD:PUBLISH
X-ORIGINAL-URL:https://monocacybrewing.com
X-WR-CALDESC:Events for Monocacy Brewing Company
REFRESH-INTERVAL;VALUE=DURATION:PT1H
X-Robots-Tag:noindex
X-PUBLISHED-TTL:PT1H
BEGIN:VTIMEZONE
TZID:America/New_York
BEGIN:DAYLIGHT
TZOFFSETFROM:-0500
TZOFFSETTO:-0400
TZNAME:EDT
DTSTART:20220313T070000
END:DAYLIGHT
BEGIN:STANDARD
TZOFFSETFROM:-0400
TZOFFSETTO:-0500
TZNAME:EST
DTSTART:20221106T060000
END:STANDARD
BEGIN:DAYLIGHT
TZOFFSETFROM:-0500
TZOFFSETTO:-0400
TZNAME:EDT
DTSTART:20230312T070000
END:DAYLIGHT
BEGIN:STANDARD
TZOFFSETFROM:-0400
TZOFFSETTO:-0500
TZNAME:EST
DTSTART:20231105T060000
END:STANDARD
BEGIN:DAYLIGHT
TZOFFSETFROM:-0500
TZOFFSETTO:-0400
TZNAME:EDT
DTSTART:20240310T070000
END:DAYLIGHT
BEGIN:STANDARD
TZOFFSETFROM:-0400
TZOFFSETTO:-0500
TZNAME:EST
DTSTART:20241103T060000
END:STANDARD
END:VTIMEZONE
BEGIN:VEVENT
DTSTART;VALUE=DATE:20230617
DTEND;VALUE=DATE:20230618
DTSTAMP:20260422T093153
CREATED:20230525T223024Z
LAST-MODIFIED:20230525T223024Z
UID:10001797-1686960000-1687046399@monocacybrewing.com
SUMMARY:Offsite Event: Westminster Beer & BBQ Stroll
DESCRIPTION:Come find us in downtown Westminster for an afternoon of local brews\, live music\, vendors and delicious food al fresco! Live entertainment featuring Kelly Bell Band.
URL:https://monocacybrewing.com/event/offsite-event-westminster-beer-bbq-stroll/
LOCATION:MD
END:VEVENT
BEGIN:VEVENT
DTSTART;TZID=America/New_York:20230617T120000
DTEND;TZID=America/New_York:20230617T200000
DTSTAMP:20260422T093153
CREATED:20230525T222346Z
LAST-MODIFIED:20230525T222346Z
UID:10001796-1687003200-1687032000@monocacybrewing.com
SUMMARY:Food Truck: Firestones
DESCRIPTION:
URL:https://monocacybrewing.com/event/food-truck-firestones-2/
LOCATION:MD
END:VEVENT
BEGIN:VEVENT
DTSTART;TZID=America/New_York:20230617T123000
DTEND;TZID=America/New_York:20230617T153000
DTSTAMP:20260422T093153
CREATED:20230525T222210Z
LAST-MODIFIED:20230525T222210Z
UID:10001794-1687005000-1687015800@monocacybrewing.com
SUMMARY:Live Music: David Sparrow
DESCRIPTION:
URL:https://monocacybrewing.com/event/live-music-david-sparrow/
LOCATION:MD
END:VEVENT
BEGIN:VEVENT
DTSTART;TZID=America/New_York:20230617T170000
DTEND;TZID=America/New_York:20230617T200000
DTSTAMP:20260422T093153
CREATED:20230525T222242Z
LAST-MODIFIED:20230525T222242Z
UID:10001795-1687021200-1687032000@monocacybrewing.com
SUMMARY:Live Music: Rich Casella
DESCRIPTION:
URL:https://monocacybrewing.com/event/live-music-rich-casella/
LOCATION:MD
END:VEVENT
END:VCALENDAR